BEGIN:VCALENDAR
VERSION:2.0
PRODID:-//Soapstone Comedy - ECPv6.15.0//NONSGML v1.0//EN
CALSCALE:GREGORIAN
METHOD:PUBLISH
X-ORIGINAL-URL:https://www.soapstonecomedy.com
X-WR-CALDESC:Events for Soapstone Comedy
REFRESH-INTERVAL;VALUE=DURATION:PT1H
X-Robots-Tag:noindex
X-PUBLISHED-TTL:PT1H
BEGIN:VTIMEZONE
TZID:America/Detroit
BEGIN:DAYLIGHT
TZOFFSETFROM:-0500
TZOFFSETTO:-0400
TZNAME:EDT
DTSTART:20270314T070000
END:DAYLIGHT
BEGIN:STANDARD
TZOFFSETFROM:-0400
TZOFFSETTO:-0500
TZNAME:EST
DTSTART:20271107T060000
END:STANDARD
END:VTIMEZONE
BEGIN:VEVENT
DTSTART;TZID=America/Detroit:20270528T150000
DTEND;TZID=America/Detroit:20270528T160000
DTSTAMP:20260420T230431
CREATED:20251114T124345Z
LAST-MODIFIED:20260224T130606Z
UID:10006672-1811516400-1811520000@www.soapstonecomedy.com
SUMMARY:Soapstone Soundstage
DESCRIPTION:
URL:https://www.soapstonecomedy.com/event/18-plus-soapstone-soundstage-2-2/2027-05-28/
LOCATION:The Soapstone Comedy Club – NYC 18+
CATEGORIES:Music
ATTACH;FMTTYPE=image/png:https://www.soapstonecomedy.com/wp-content/uploads/2026/02/2026-SOUNDSTAGE-1224x756-1.png
END:VEVENT
BEGIN:VEVENT
DTSTART;TZID=America/Detroit:20270528T210000
DTEND;TZID=America/Detroit:20270528T220000
DTSTAMP:20260420T230431
CREATED:20251114T124018Z
LAST-MODIFIED:20260224T130554Z
UID:10008781-1811538000-1811541600@www.soapstonecomedy.com
SUMMARY:Soapstone Soundstage
DESCRIPTION:
URL:https://www.soapstonecomedy.com/event/18-plus-soapstone-soundstage-3/2027-05-28/
LOCATION:The Soapstone Comedy Club – NYC 18+
CATEGORIES:Music
ATTACH;FMTTYPE=image/png:https://www.soapstonecomedy.com/wp-content/uploads/2026/02/2026-SOUNDSTAGE-1224x756-1.png
END:VEVENT
BEGIN:VEVENT
DTSTART;TZID=America/Detroit:20270529T150000
DTEND;TZID=America/Detroit:20270529T160000
DTSTAMP:20260420T230431
CREATED:20250911T174455Z
LAST-MODIFIED:20260224T130542Z
UID:10014168-1811602800-1811606400@www.soapstonecomedy.com
SUMMARY:Improv Hour
DESCRIPTION:
URL:https://www.soapstonecomedy.com/event/18-plus-improv-hour-at-the-soapstone/2027-05-29/
LOCATION:The Soapstone Comedy Club – NYC 18+
CATEGORIES:Improv
ATTACH;FMTTYPE=image/png:https://www.soapstonecomedy.com/wp-content/uploads/2026/02/2026-IMPROV-HOUR-1224x756-1.png
END:VEVENT
BEGIN:VEVENT
DTSTART;TZID=America/Detroit:20270529T210000
DTEND;TZID=America/Detroit:20270529T220000
DTSTAMP:20260420T230431
CREATED:20251114T133416Z
LAST-MODIFIED:20260224T130529Z
UID:10011418-1811624400-1811628000@www.soapstonecomedy.com
SUMMARY:Improv Hour
DESCRIPTION:
URL:https://www.soapstonecomedy.com/event/18-improv-hour-at-the-soapstone-2-2/2027-05-29/
LOCATION:The Soapstone Comedy Club – NYC 18+
CATEGORIES:Improv
ATTACH;FMTTYPE=image/png:https://www.soapstonecomedy.com/wp-content/uploads/2026/02/2026-IMPROV-HOUR-1224x756-1.png
END:VEVENT
BEGIN:VEVENT
DTSTART;TZID=America/Detroit:20270530T150000
DTEND;TZID=America/Detroit:20270530T160000
DTSTAMP:20260420T230431
CREATED:20250912T141829Z
LAST-MODIFIED:20260224T130516Z
UID:10011944-1811689200-1811692800@www.soapstonecomedy.com
SUMMARY:Sunday Improv
DESCRIPTION:
URL:https://www.soapstonecomedy.com/event/18-sunday-improv/2027-05-30/
LOCATION:The Soapstone Comedy Club – NYC 18+
CATEGORIES:Improv
ATTACH;FMTTYPE=image/png:https://www.soapstonecomedy.com/wp-content/uploads/2026/02/2026-SUNDAY-IMPROV-1224x756-1.png
END:VEVENT
BEGIN:VEVENT
DTSTART;TZID=America/Detroit:20270530T210000
DTEND;TZID=America/Detroit:20270530T220000
DTSTAMP:20260420T230431
CREATED:20250831T120606Z
LAST-MODIFIED:20260224T130503Z
UID:10013894-1811710800-1811714400@www.soapstonecomedy.com
SUMMARY:Story Hour
DESCRIPTION:
URL:https://www.soapstonecomedy.com/event/18-story-hour-at-the-soapstone-2/2027-05-30/
LOCATION:The Soapstone Comedy Club – NYC 18+
CATEGORIES:Storytelling
ATTACH;FMTTYPE=image/png:https://www.soapstonecomedy.com/wp-content/uploads/2026/02/2026-STORY-HOUR-1224x756-1.png
END:VEVENT
BEGIN:VEVENT
DTSTART;TZID=America/Detroit:20270531T210000
DTEND;TZID=America/Detroit:20270531T220000
DTSTAMP:20260420T230431
CREATED:20251114T114926Z
LAST-MODIFIED:20260224T130448Z
UID:10010099-1811797200-1811800800@www.soapstonecomedy.com
SUMMARY:Stand-up Showdown
DESCRIPTION:
URL:https://www.soapstonecomedy.com/event/1000-dollar-spotlight-comedy-auditions-18-plus-2-2/2027-05-31/
LOCATION:The Soapstone Comedy Club – NYC 18+
CATEGORIES:Standup Comedy
ATTACH;FMTTYPE=image/png:https://www.soapstonecomedy.com/wp-content/uploads/2026/02/2026-STAND-UP-SHOWDOWN-1224x756-1.png
END:VEVENT
BEGIN:VEVENT
DTSTART;TZID=America/Detroit:20270601T150000
DTEND;TZID=America/Detroit:20270601T160000
DTSTAMP:20260420T230432
CREATED:20250911T164307Z
LAST-MODIFIED:20260224T130656Z
UID:10007199-1811862000-1811865600@www.soapstonecomedy.com
SUMMARY:Trivia Hour
DESCRIPTION:
URL:https://www.soapstonecomedy.com/event/18-plus-trivia-hour-at-the-soapstone-2/2027-06-01/
LOCATION:The Soapstone Comedy Club – NYC 18+
CATEGORIES:Social,Trivia
ATTACH;FMTTYPE=image/png:https://www.soapstonecomedy.com/wp-content/uploads/2025/09/2026-TRIVIA-HOUR-1224x756-1.png
END:VEVENT
BEGIN:VEVENT
DTSTART;TZID=America/Detroit:20270601T210000
DTEND;TZID=America/Detroit:20270601T220000
DTSTAMP:20260420T230432
CREATED:20250911T163548Z
LAST-MODIFIED:20260224T130644Z
UID:10013630-1811883600-1811887200@www.soapstonecomedy.com
SUMMARY:Trivia Hour
DESCRIPTION:Trivia! Pop by to see if you are smarter than the average avatar and for a chance to win a $25 gift card.
URL:https://www.soapstonecomedy.com/event/18-plus-trivia-hour-at-the-soapstone/2027-06-01/
LOCATION:The Soapstone Comedy Club – NYC 18+
CATEGORIES:Social,Trivia
ATTACH;FMTTYPE=image/png:https://www.soapstonecomedy.com/wp-content/uploads/2025/09/2026-TRIVIA-HOUR-1224x756-1.png
END:VEVENT
BEGIN:VEVENT
DTSTART;TZID=America/Detroit:20270601T220000
DTEND;TZID=America/Detroit:20270601T230000
DTSTAMP:20260420T230432
CREATED:20251114T122438Z
LAST-MODIFIED:20260224T130436Z
UID:10014867-1811887200-1811890800@www.soapstonecomedy.com
SUMMARY:The SoapSTOVE
DESCRIPTION:
URL:https://www.soapstonecomedy.com/event/18-plus-the-soapstove-2/2027-06-01/
LOCATION:The Soapstone Comedy Club – NYC 18+
CATEGORIES:Social
ATTACH;FMTTYPE=image/png:https://www.soapstonecomedy.com/wp-content/uploads/2026/02/2026-SOAPSTOVE-1224x756-1.png
END:VEVENT
BEGIN:VEVENT
DTSTART;TZID=America/Detroit:20270602T150000
DTEND;TZID=America/Detroit:20270602T160000
DTSTAMP:20260420T230432
CREATED:20250911T173438Z
LAST-MODIFIED:20260224T130632Z
UID:10008255-1811948400-1811952000@www.soapstonecomedy.com
SUMMARY:Hello Soapstone!
DESCRIPTION:
URL:https://www.soapstonecomedy.com/event/18-plus-hello-soapstone/2027-06-02/
LOCATION:The Soapstone Comedy Club – NYC 18+
CATEGORIES:Social
ATTACH;FMTTYPE=image/png:https://www.soapstonecomedy.com/wp-content/uploads/2026/02/2026-HELLO-SOAPSTONE-1224x756-1.png
END:VEVENT
BEGIN:VEVENT
DTSTART;TZID=America/Detroit:20270602T210000
DTEND;TZID=America/Detroit:20270602T220000
DTSTAMP:20260420T230432
CREATED:20250911T172614Z
LAST-MODIFIED:20260224T130618Z
UID:10007727-1811970000-1811973600@www.soapstonecomedy.com
SUMMARY:Hello Soapstone!
DESCRIPTION:
URL:https://www.soapstonecomedy.com/event/18-plus-hello-soapstone-2/2027-06-02/
LOCATION:The Soapstone Comedy Club – NYC 18+
CATEGORIES:Social
ATTACH;FMTTYPE=image/png:https://www.soapstonecomedy.com/wp-content/uploads/2026/02/2026-HELLO-SOAPSTONE-1224x756-1.png
END:VEVENT
BEGIN:VEVENT
DTSTART;TZID=America/Detroit:20270603T150000
DTEND;TZID=America/Detroit:20270603T160000
DTSTAMP:20260420T230432
CREATED:20260106T153156Z
LAST-MODIFIED:20260224T130347Z
UID:10015395-1812034800-1812038400@www.soapstonecomedy.com
SUMMARY:Le Soapstone
DESCRIPTION:
URL:https://www.soapstonecomedy.com/event/18-plus-le-soapstone-2-2-2/2027-06-03/
LOCATION:The Soapstone Comedy Club – NYC 18+
CATEGORIES:Music,Social
ATTACH;FMTTYPE=image/png:https://www.soapstonecomedy.com/wp-content/uploads/2026/02/2026-LE-SOAPSTONE-TH-1224x756-1.png
END:VEVENT
BEGIN:VEVENT
DTSTART;TZID=America/Detroit:20270604T150000
DTEND;TZID=America/Detroit:20270604T160000
DTSTAMP:20260420T230432
CREATED:20251114T124345Z
LAST-MODIFIED:20260224T130606Z
UID:10006673-1812121200-1812124800@www.soapstonecomedy.com
SUMMARY:Soapstone Soundstage
DESCRIPTION:
URL:https://www.soapstonecomedy.com/event/18-plus-soapstone-soundstage-2-2/2027-06-04/
LOCATION:The Soapstone Comedy Club – NYC 18+
CATEGORIES:Music
ATTACH;FMTTYPE=image/png:https://www.soapstonecomedy.com/wp-content/uploads/2026/02/2026-SOUNDSTAGE-1224x756-1.png
END:VEVENT
BEGIN:VEVENT
DTSTART;TZID=America/Detroit:20270604T210000
DTEND;TZID=America/Detroit:20270604T220000
DTSTAMP:20260420T230432
CREATED:20251114T124018Z
LAST-MODIFIED:20260224T130554Z
UID:10008782-1812142800-1812146400@www.soapstonecomedy.com
SUMMARY:Soapstone Soundstage
DESCRIPTION:
URL:https://www.soapstonecomedy.com/event/18-plus-soapstone-soundstage-3/2027-06-04/
LOCATION:The Soapstone Comedy Club – NYC 18+
CATEGORIES:Music
ATTACH;FMTTYPE=image/png:https://www.soapstonecomedy.com/wp-content/uploads/2026/02/2026-SOUNDSTAGE-1224x756-1.png
END:VEVENT
BEGIN:VEVENT
DTSTART;TZID=America/Detroit:20270605T150000
DTEND;TZID=America/Detroit:20270605T160000
DTSTAMP:20260420T230432
CREATED:20250911T174455Z
LAST-MODIFIED:20260224T130542Z
UID:10014169-1812207600-1812211200@www.soapstonecomedy.com
SUMMARY:Improv Hour
DESCRIPTION:
URL:https://www.soapstonecomedy.com/event/18-plus-improv-hour-at-the-soapstone/2027-06-05/
LOCATION:The Soapstone Comedy Club – NYC 18+
CATEGORIES:Improv
ATTACH;FMTTYPE=image/png:https://www.soapstonecomedy.com/wp-content/uploads/2026/02/2026-IMPROV-HOUR-1224x756-1.png
END:VEVENT
BEGIN:VEVENT
DTSTART;TZID=America/Detroit:20270605T210000
DTEND;TZID=America/Detroit:20270605T220000
DTSTAMP:20260420T230432
CREATED:20251114T133416Z
LAST-MODIFIED:20260224T130529Z
UID:10011419-1812229200-1812232800@www.soapstonecomedy.com
SUMMARY:Improv Hour
DESCRIPTION:
URL:https://www.soapstonecomedy.com/event/18-improv-hour-at-the-soapstone-2-2/2027-06-05/
LOCATION:The Soapstone Comedy Club – NYC 18+
CATEGORIES:Improv
ATTACH;FMTTYPE=image/png:https://www.soapstonecomedy.com/wp-content/uploads/2026/02/2026-IMPROV-HOUR-1224x756-1.png
END:VEVENT
BEGIN:VEVENT
DTSTART;TZID=America/Detroit:20270606T150000
DTEND;TZID=America/Detroit:20270606T160000
DTSTAMP:20260420T230432
CREATED:20250912T141829Z
LAST-MODIFIED:20260224T130516Z
UID:10011945-1812294000-1812297600@www.soapstonecomedy.com
SUMMARY:Sunday Improv
DESCRIPTION:
URL:https://www.soapstonecomedy.com/event/18-sunday-improv/2027-06-06/
LOCATION:The Soapstone Comedy Club – NYC 18+
CATEGORIES:Improv
ATTACH;FMTTYPE=image/png:https://www.soapstonecomedy.com/wp-content/uploads/2026/02/2026-SUNDAY-IMPROV-1224x756-1.png
END:VEVENT
BEGIN:VEVENT
DTSTART;TZID=America/Detroit:20270606T210000
DTEND;TZID=America/Detroit:20270606T220000
DTSTAMP:20260420T230432
CREATED:20250831T120606Z
LAST-MODIFIED:20260224T130503Z
UID:10013895-1812315600-1812319200@www.soapstonecomedy.com
SUMMARY:Story Hour
DESCRIPTION:
URL:https://www.soapstonecomedy.com/event/18-story-hour-at-the-soapstone-2/2027-06-06/
LOCATION:The Soapstone Comedy Club – NYC 18+
CATEGORIES:Storytelling
ATTACH;FMTTYPE=image/png:https://www.soapstonecomedy.com/wp-content/uploads/2026/02/2026-STORY-HOUR-1224x756-1.png
END:VEVENT
BEGIN:VEVENT
DTSTART;TZID=America/Detroit:20270607T210000
DTEND;TZID=America/Detroit:20270607T220000
DTSTAMP:20260420T230432
CREATED:20251114T114926Z
LAST-MODIFIED:20260224T130448Z
UID:10010100-1812402000-1812405600@www.soapstonecomedy.com
SUMMARY:Stand-up Showdown
DESCRIPTION:
URL:https://www.soapstonecomedy.com/event/1000-dollar-spotlight-comedy-auditions-18-plus-2-2/2027-06-07/
LOCATION:The Soapstone Comedy Club – NYC 18+
CATEGORIES:Standup Comedy
ATTACH;FMTTYPE=image/png:https://www.soapstonecomedy.com/wp-content/uploads/2026/02/2026-STAND-UP-SHOWDOWN-1224x756-1.png
END:VEVENT
BEGIN:VEVENT
DTSTART;TZID=America/Detroit:20270608T150000
DTEND;TZID=America/Detroit:20270608T160000
DTSTAMP:20260420T230432
CREATED:20250911T164307Z
LAST-MODIFIED:20260224T130656Z
UID:10007200-1812466800-1812470400@www.soapstonecomedy.com
SUMMARY:Trivia Hour
DESCRIPTION:
URL:https://www.soapstonecomedy.com/event/18-plus-trivia-hour-at-the-soapstone-2/2027-06-08/
LOCATION:The Soapstone Comedy Club – NYC 18+
CATEGORIES:Social,Trivia
ATTACH;FMTTYPE=image/png:https://www.soapstonecomedy.com/wp-content/uploads/2025/09/2026-TRIVIA-HOUR-1224x756-1.png
END:VEVENT
BEGIN:VEVENT
DTSTART;TZID=America/Detroit:20270608T210000
DTEND;TZID=America/Detroit:20270608T220000
DTSTAMP:20260420T230432
CREATED:20250911T163548Z
LAST-MODIFIED:20260224T130644Z
UID:10013631-1812488400-1812492000@www.soapstonecomedy.com
SUMMARY:Trivia Hour
DESCRIPTION:Trivia! Pop by to see if you are smarter than the average avatar and for a chance to win a $25 gift card.
URL:https://www.soapstonecomedy.com/event/18-plus-trivia-hour-at-the-soapstone/2027-06-08/
LOCATION:The Soapstone Comedy Club – NYC 18+
CATEGORIES:Social,Trivia
ATTACH;FMTTYPE=image/png:https://www.soapstonecomedy.com/wp-content/uploads/2025/09/2026-TRIVIA-HOUR-1224x756-1.png
END:VEVENT
BEGIN:VEVENT
DTSTART;TZID=America/Detroit:20270608T220000
DTEND;TZID=America/Detroit:20270608T230000
DTSTAMP:20260420T230432
CREATED:20251114T122438Z
LAST-MODIFIED:20260224T130436Z
UID:10014868-1812492000-1812495600@www.soapstonecomedy.com
SUMMARY:The SoapSTOVE
DESCRIPTION:
URL:https://www.soapstonecomedy.com/event/18-plus-the-soapstove-2/2027-06-08/
LOCATION:The Soapstone Comedy Club – NYC 18+
CATEGORIES:Social
ATTACH;FMTTYPE=image/png:https://www.soapstonecomedy.com/wp-content/uploads/2026/02/2026-SOAPSTOVE-1224x756-1.png
END:VEVENT
BEGIN:VEVENT
DTSTART;TZID=America/Detroit:20270609T150000
DTEND;TZID=America/Detroit:20270609T160000
DTSTAMP:20260420T230432
CREATED:20250911T173438Z
LAST-MODIFIED:20260224T130632Z
UID:10008256-1812553200-1812556800@www.soapstonecomedy.com
SUMMARY:Hello Soapstone!
DESCRIPTION:
URL:https://www.soapstonecomedy.com/event/18-plus-hello-soapstone/2027-06-09/
LOCATION:The Soapstone Comedy Club – NYC 18+
CATEGORIES:Social
ATTACH;FMTTYPE=image/png:https://www.soapstonecomedy.com/wp-content/uploads/2026/02/2026-HELLO-SOAPSTONE-1224x756-1.png
END:VEVENT
BEGIN:VEVENT
DTSTART;TZID=America/Detroit:20270609T210000
DTEND;TZID=America/Detroit:20270609T220000
DTSTAMP:20260420T230432
CREATED:20250911T172614Z
LAST-MODIFIED:20260224T130618Z
UID:10007728-1812574800-1812578400@www.soapstonecomedy.com
SUMMARY:Hello Soapstone!
DESCRIPTION:
URL:https://www.soapstonecomedy.com/event/18-plus-hello-soapstone-2/2027-06-09/
LOCATION:The Soapstone Comedy Club – NYC 18+
CATEGORIES:Social
ATTACH;FMTTYPE=image/png:https://www.soapstonecomedy.com/wp-content/uploads/2026/02/2026-HELLO-SOAPSTONE-1224x756-1.png
END:VEVENT
BEGIN:VEVENT
DTSTART;TZID=America/Detroit:20270610T150000
DTEND;TZID=America/Detroit:20270610T160000
DTSTAMP:20260420T230432
CREATED:20260106T153156Z
LAST-MODIFIED:20260224T130347Z
UID:10015396-1812639600-1812643200@www.soapstonecomedy.com
SUMMARY:Le Soapstone
DESCRIPTION:
URL:https://www.soapstonecomedy.com/event/18-plus-le-soapstone-2-2-2/2027-06-10/
LOCATION:The Soapstone Comedy Club – NYC 18+
CATEGORIES:Music,Social
ATTACH;FMTTYPE=image/png:https://www.soapstonecomedy.com/wp-content/uploads/2026/02/2026-LE-SOAPSTONE-TH-1224x756-1.png
END:VEVENT
BEGIN:VEVENT
DTSTART;TZID=America/Detroit:20270611T150000
DTEND;TZID=America/Detroit:20270611T160000
DTSTAMP:20260420T230432
CREATED:20251114T124345Z
LAST-MODIFIED:20260224T130606Z
UID:10006674-1812726000-1812729600@www.soapstonecomedy.com
SUMMARY:Soapstone Soundstage
DESCRIPTION:
URL:https://www.soapstonecomedy.com/event/18-plus-soapstone-soundstage-2-2/2027-06-11/
LOCATION:The Soapstone Comedy Club – NYC 18+
CATEGORIES:Music
ATTACH;FMTTYPE=image/png:https://www.soapstonecomedy.com/wp-content/uploads/2026/02/2026-SOUNDSTAGE-1224x756-1.png
END:VEVENT
BEGIN:VEVENT
DTSTART;TZID=America/Detroit:20270611T210000
DTEND;TZID=America/Detroit:20270611T220000
DTSTAMP:20260420T230432
CREATED:20251114T124018Z
LAST-MODIFIED:20260224T130554Z
UID:10008783-1812747600-1812751200@www.soapstonecomedy.com
SUMMARY:Soapstone Soundstage
DESCRIPTION:
URL:https://www.soapstonecomedy.com/event/18-plus-soapstone-soundstage-3/2027-06-11/
LOCATION:The Soapstone Comedy Club – NYC 18+
CATEGORIES:Music
ATTACH;FMTTYPE=image/png:https://www.soapstonecomedy.com/wp-content/uploads/2026/02/2026-SOUNDSTAGE-1224x756-1.png
END:VEVENT
BEGIN:VEVENT
DTSTART;TZID=America/Detroit:20270612T150000
DTEND;TZID=America/Detroit:20270612T160000
DTSTAMP:20260420T230432
CREATED:20250911T174455Z
LAST-MODIFIED:20260224T130542Z
UID:10014170-1812812400-1812816000@www.soapstonecomedy.com
SUMMARY:Improv Hour
DESCRIPTION:
URL:https://www.soapstonecomedy.com/event/18-plus-improv-hour-at-the-soapstone/2027-06-12/
LOCATION:The Soapstone Comedy Club – NYC 18+
CATEGORIES:Improv
ATTACH;FMTTYPE=image/png:https://www.soapstonecomedy.com/wp-content/uploads/2026/02/2026-IMPROV-HOUR-1224x756-1.png
END:VEVENT
BEGIN:VEVENT
DTSTART;TZID=America/Detroit:20270612T210000
DTEND;TZID=America/Detroit:20270612T220000
DTSTAMP:20260420T230432
CREATED:20251114T133416Z
LAST-MODIFIED:20260224T130529Z
UID:10011420-1812834000-1812837600@www.soapstonecomedy.com
SUMMARY:Improv Hour
DESCRIPTION:
URL:https://www.soapstonecomedy.com/event/18-improv-hour-at-the-soapstone-2-2/2027-06-12/
LOCATION:The Soapstone Comedy Club – NYC 18+
CATEGORIES:Improv
ATTACH;FMTTYPE=image/png:https://www.soapstonecomedy.com/wp-content/uploads/2026/02/2026-IMPROV-HOUR-1224x756-1.png
END:VEVENT
END:VCALENDAR