BEGIN:VCALENDAR
VERSION:2.0
PRODID:-//Soapstone Comedy - ECPv6.15.0//NONSGML v1.0//EN
CALSCALE:GREGORIAN
METHOD:PUBLISH
X-WR-CALNAME:Soapstone Comedy
X-ORIGINAL-URL:https://www.soapstonecomedy.com
X-WR-CALDESC:Events for Soapstone Comedy
REFRESH-INTERVAL;VALUE=DURATION:PT1H
X-Robots-Tag:noindex
X-PUBLISHED-TTL:PT1H
BEGIN:VTIMEZONE
TZID:America/Detroit
BEGIN:DAYLIGHT
TZOFFSETFROM:-0500
TZOFFSETTO:-0400
TZNAME:EDT
DTSTART:20270314T070000
END:DAYLIGHT
BEGIN:STANDARD
TZOFFSETFROM:-0400
TZOFFSETTO:-0500
TZNAME:EST
DTSTART:20271107T060000
END:STANDARD
END:VTIMEZONE
BEGIN:VEVENT
DTSTART;TZID=America/Detroit:20270904T150000
DTEND;TZID=America/Detroit:20270904T160000
DTSTAMP:20260422T064022
CREATED:20250911T174455Z
LAST-MODIFIED:20260224T130542Z
UID:10014182-1820070000-1820073600@www.soapstonecomedy.com
SUMMARY:Improv Hour
DESCRIPTION:
URL:https://www.soapstonecomedy.com/event/18-plus-improv-hour-at-the-soapstone/2027-09-04/
LOCATION:The Soapstone Comedy Club – NYC 18+
CATEGORIES:Improv
ATTACH;FMTTYPE=image/png:https://www.soapstonecomedy.com/wp-content/uploads/2026/02/2026-IMPROV-HOUR-1224x756-1.png
END:VEVENT
BEGIN:VEVENT
DTSTART;TZID=America/Detroit:20270904T210000
DTEND;TZID=America/Detroit:20270904T220000
DTSTAMP:20260422T064022
CREATED:20251114T133416Z
LAST-MODIFIED:20260224T130529Z
UID:10011432-1820091600-1820095200@www.soapstonecomedy.com
SUMMARY:Improv Hour
DESCRIPTION:
URL:https://www.soapstonecomedy.com/event/18-improv-hour-at-the-soapstone-2-2/2027-09-04/
LOCATION:The Soapstone Comedy Club – NYC 18+
CATEGORIES:Improv
ATTACH;FMTTYPE=image/png:https://www.soapstonecomedy.com/wp-content/uploads/2026/02/2026-IMPROV-HOUR-1224x756-1.png
END:VEVENT
BEGIN:VEVENT
DTSTART;TZID=America/Detroit:20270905T150000
DTEND;TZID=America/Detroit:20270905T160000
DTSTAMP:20260422T064022
CREATED:20250912T141829Z
LAST-MODIFIED:20260224T130516Z
UID:10011958-1820156400-1820160000@www.soapstonecomedy.com
SUMMARY:Sunday Improv
DESCRIPTION:
URL:https://www.soapstonecomedy.com/event/18-sunday-improv/2027-09-05/
LOCATION:The Soapstone Comedy Club – NYC 18+
CATEGORIES:Improv
ATTACH;FMTTYPE=image/png:https://www.soapstonecomedy.com/wp-content/uploads/2026/02/2026-SUNDAY-IMPROV-1224x756-1.png
END:VEVENT
BEGIN:VEVENT
DTSTART;TZID=America/Detroit:20270905T210000
DTEND;TZID=America/Detroit:20270905T220000
DTSTAMP:20260422T064022
CREATED:20250831T120606Z
LAST-MODIFIED:20260224T130503Z
UID:10013908-1820178000-1820181600@www.soapstonecomedy.com
SUMMARY:Story Hour
DESCRIPTION:
URL:https://www.soapstonecomedy.com/event/18-story-hour-at-the-soapstone-2/2027-09-05/
LOCATION:The Soapstone Comedy Club – NYC 18+
CATEGORIES:Storytelling
ATTACH;FMTTYPE=image/png:https://www.soapstonecomedy.com/wp-content/uploads/2026/02/2026-STORY-HOUR-1224x756-1.png
END:VEVENT
BEGIN:VEVENT
DTSTART;TZID=America/Detroit:20270906T210000
DTEND;TZID=America/Detroit:20270906T220000
DTSTAMP:20260422T064022
CREATED:20251114T114926Z
LAST-MODIFIED:20260224T130448Z
UID:10010113-1820264400-1820268000@www.soapstonecomedy.com
SUMMARY:Stand-up Showdown
DESCRIPTION:
URL:https://www.soapstonecomedy.com/event/1000-dollar-spotlight-comedy-auditions-18-plus-2-2/2027-09-06/
LOCATION:The Soapstone Comedy Club – NYC 18+
CATEGORIES:Standup Comedy
ATTACH;FMTTYPE=image/png:https://www.soapstonecomedy.com/wp-content/uploads/2026/02/2026-STAND-UP-SHOWDOWN-1224x756-1.png
END:VEVENT
BEGIN:VEVENT
DTSTART;TZID=America/Detroit:20270907T150000
DTEND;TZID=America/Detroit:20270907T160000
DTSTAMP:20260422T064022
CREATED:20250911T164307Z
LAST-MODIFIED:20260224T130656Z
UID:10007213-1820329200-1820332800@www.soapstonecomedy.com
SUMMARY:Trivia Hour
DESCRIPTION:
URL:https://www.soapstonecomedy.com/event/18-plus-trivia-hour-at-the-soapstone-2/2027-09-07/
LOCATION:The Soapstone Comedy Club – NYC 18+
CATEGORIES:Social,Trivia
ATTACH;FMTTYPE=image/png:https://www.soapstonecomedy.com/wp-content/uploads/2025/09/2026-TRIVIA-HOUR-1224x756-1.png
END:VEVENT
BEGIN:VEVENT
DTSTART;TZID=America/Detroit:20270907T210000
DTEND;TZID=America/Detroit:20270907T220000
DTSTAMP:20260422T064022
CREATED:20250911T163548Z
LAST-MODIFIED:20260224T130644Z
UID:10013644-1820350800-1820354400@www.soapstonecomedy.com
SUMMARY:Trivia Hour
DESCRIPTION:Trivia! Pop by to see if you are smarter than the average avatar and for a chance to win a $25 gift card.
URL:https://www.soapstonecomedy.com/event/18-plus-trivia-hour-at-the-soapstone/2027-09-07/
LOCATION:The Soapstone Comedy Club – NYC 18+
CATEGORIES:Social,Trivia
ATTACH;FMTTYPE=image/png:https://www.soapstonecomedy.com/wp-content/uploads/2025/09/2026-TRIVIA-HOUR-1224x756-1.png
END:VEVENT
BEGIN:VEVENT
DTSTART;TZID=America/Detroit:20270907T220000
DTEND;TZID=America/Detroit:20270907T230000
DTSTAMP:20260422T064022
CREATED:20251114T122438Z
LAST-MODIFIED:20260224T130436Z
UID:10014881-1820354400-1820358000@www.soapstonecomedy.com
SUMMARY:The SoapSTOVE
DESCRIPTION:
URL:https://www.soapstonecomedy.com/event/18-plus-the-soapstove-2/2027-09-07/
LOCATION:The Soapstone Comedy Club – NYC 18+
CATEGORIES:Social
ATTACH;FMTTYPE=image/png:https://www.soapstonecomedy.com/wp-content/uploads/2026/02/2026-SOAPSTOVE-1224x756-1.png
END:VEVENT
BEGIN:VEVENT
DTSTART;TZID=America/Detroit:20270908T150000
DTEND;TZID=America/Detroit:20270908T160000
DTSTAMP:20260422T064022
CREATED:20250911T173438Z
LAST-MODIFIED:20260224T130632Z
UID:10008269-1820415600-1820419200@www.soapstonecomedy.com
SUMMARY:Hello Soapstone!
DESCRIPTION:
URL:https://www.soapstonecomedy.com/event/18-plus-hello-soapstone/2027-09-08/
LOCATION:The Soapstone Comedy Club – NYC 18+
CATEGORIES:Social
ATTACH;FMTTYPE=image/png:https://www.soapstonecomedy.com/wp-content/uploads/2026/02/2026-HELLO-SOAPSTONE-1224x756-1.png
END:VEVENT
BEGIN:VEVENT
DTSTART;TZID=America/Detroit:20270908T210000
DTEND;TZID=America/Detroit:20270908T220000
DTSTAMP:20260422T064022
CREATED:20250911T172614Z
LAST-MODIFIED:20260224T130618Z
UID:10007741-1820437200-1820440800@www.soapstonecomedy.com
SUMMARY:Hello Soapstone!
DESCRIPTION:
URL:https://www.soapstonecomedy.com/event/18-plus-hello-soapstone-2/2027-09-08/
LOCATION:The Soapstone Comedy Club – NYC 18+
CATEGORIES:Social
ATTACH;FMTTYPE=image/png:https://www.soapstonecomedy.com/wp-content/uploads/2026/02/2026-HELLO-SOAPSTONE-1224x756-1.png
END:VEVENT
BEGIN:VEVENT
DTSTART;TZID=America/Detroit:20270909T150000
DTEND;TZID=America/Detroit:20270909T160000
DTSTAMP:20260422T064022
CREATED:20260106T153156Z
LAST-MODIFIED:20260224T130347Z
UID:10015409-1820502000-1820505600@www.soapstonecomedy.com
SUMMARY:Le Soapstone
DESCRIPTION:
URL:https://www.soapstonecomedy.com/event/18-plus-le-soapstone-2-2-2/2027-09-09/
LOCATION:The Soapstone Comedy Club – NYC 18+
CATEGORIES:Music,Social
ATTACH;FMTTYPE=image/png:https://www.soapstonecomedy.com/wp-content/uploads/2026/02/2026-LE-SOAPSTONE-TH-1224x756-1.png
END:VEVENT
BEGIN:VEVENT
DTSTART;TZID=America/Detroit:20270910T150000
DTEND;TZID=America/Detroit:20270910T160000
DTSTAMP:20260422T064022
CREATED:20251114T124345Z
LAST-MODIFIED:20260224T130606Z
UID:10006687-1820588400-1820592000@www.soapstonecomedy.com
SUMMARY:Soapstone Soundstage
DESCRIPTION:
URL:https://www.soapstonecomedy.com/event/18-plus-soapstone-soundstage-2-2/2027-09-10/
LOCATION:The Soapstone Comedy Club – NYC 18+
CATEGORIES:Music
ATTACH;FMTTYPE=image/png:https://www.soapstonecomedy.com/wp-content/uploads/2026/02/2026-SOUNDSTAGE-1224x756-1.png
END:VEVENT
BEGIN:VEVENT
DTSTART;TZID=America/Detroit:20270910T210000
DTEND;TZID=America/Detroit:20270910T220000
DTSTAMP:20260422T064022
CREATED:20251114T124018Z
LAST-MODIFIED:20260224T130554Z
UID:10008796-1820610000-1820613600@www.soapstonecomedy.com
SUMMARY:Soapstone Soundstage
DESCRIPTION:
URL:https://www.soapstonecomedy.com/event/18-plus-soapstone-soundstage-3/2027-09-10/
LOCATION:The Soapstone Comedy Club – NYC 18+
CATEGORIES:Music
ATTACH;FMTTYPE=image/png:https://www.soapstonecomedy.com/wp-content/uploads/2026/02/2026-SOUNDSTAGE-1224x756-1.png
END:VEVENT
BEGIN:VEVENT
DTSTART;TZID=America/Detroit:20270911T150000
DTEND;TZID=America/Detroit:20270911T160000
DTSTAMP:20260422T064022
CREATED:20250911T174455Z
LAST-MODIFIED:20260224T130542Z
UID:10014183-1820674800-1820678400@www.soapstonecomedy.com
SUMMARY:Improv Hour
DESCRIPTION:
URL:https://www.soapstonecomedy.com/event/18-plus-improv-hour-at-the-soapstone/2027-09-11/
LOCATION:The Soapstone Comedy Club – NYC 18+
CATEGORIES:Improv
ATTACH;FMTTYPE=image/png:https://www.soapstonecomedy.com/wp-content/uploads/2026/02/2026-IMPROV-HOUR-1224x756-1.png
END:VEVENT
BEGIN:VEVENT
DTSTART;TZID=America/Detroit:20270911T210000
DTEND;TZID=America/Detroit:20270911T220000
DTSTAMP:20260422T064022
CREATED:20251114T133416Z
LAST-MODIFIED:20260224T130529Z
UID:10011433-1820696400-1820700000@www.soapstonecomedy.com
SUMMARY:Improv Hour
DESCRIPTION:
URL:https://www.soapstonecomedy.com/event/18-improv-hour-at-the-soapstone-2-2/2027-09-11/
LOCATION:The Soapstone Comedy Club – NYC 18+
CATEGORIES:Improv
ATTACH;FMTTYPE=image/png:https://www.soapstonecomedy.com/wp-content/uploads/2026/02/2026-IMPROV-HOUR-1224x756-1.png
END:VEVENT
BEGIN:VEVENT
DTSTART;TZID=America/Detroit:20270912T150000
DTEND;TZID=America/Detroit:20270912T160000
DTSTAMP:20260422T064023
CREATED:20250912T141829Z
LAST-MODIFIED:20260224T130516Z
UID:10011959-1820761200-1820764800@www.soapstonecomedy.com
SUMMARY:Sunday Improv
DESCRIPTION:
URL:https://www.soapstonecomedy.com/event/18-sunday-improv/2027-09-12/
LOCATION:The Soapstone Comedy Club – NYC 18+
CATEGORIES:Improv
ATTACH;FMTTYPE=image/png:https://www.soapstonecomedy.com/wp-content/uploads/2026/02/2026-SUNDAY-IMPROV-1224x756-1.png
END:VEVENT
BEGIN:VEVENT
DTSTART;TZID=America/Detroit:20270912T210000
DTEND;TZID=America/Detroit:20270912T220000
DTSTAMP:20260422T064023
CREATED:20250831T120606Z
LAST-MODIFIED:20260224T130503Z
UID:10013909-1820782800-1820786400@www.soapstonecomedy.com
SUMMARY:Story Hour
DESCRIPTION:
URL:https://www.soapstonecomedy.com/event/18-story-hour-at-the-soapstone-2/2027-09-12/
LOCATION:The Soapstone Comedy Club – NYC 18+
CATEGORIES:Storytelling
ATTACH;FMTTYPE=image/png:https://www.soapstonecomedy.com/wp-content/uploads/2026/02/2026-STORY-HOUR-1224x756-1.png
END:VEVENT
BEGIN:VEVENT
DTSTART;TZID=America/Detroit:20270913T210000
DTEND;TZID=America/Detroit:20270913T220000
DTSTAMP:20260422T064023
CREATED:20251114T114926Z
LAST-MODIFIED:20260224T130448Z
UID:10010114-1820869200-1820872800@www.soapstonecomedy.com
SUMMARY:Stand-up Showdown
DESCRIPTION:
URL:https://www.soapstonecomedy.com/event/1000-dollar-spotlight-comedy-auditions-18-plus-2-2/2027-09-13/
LOCATION:The Soapstone Comedy Club – NYC 18+
CATEGORIES:Standup Comedy
ATTACH;FMTTYPE=image/png:https://www.soapstonecomedy.com/wp-content/uploads/2026/02/2026-STAND-UP-SHOWDOWN-1224x756-1.png
END:VEVENT
BEGIN:VEVENT
DTSTART;TZID=America/Detroit:20270914T150000
DTEND;TZID=America/Detroit:20270914T160000
DTSTAMP:20260422T064023
CREATED:20250911T164307Z
LAST-MODIFIED:20260224T130656Z
UID:10007214-1820934000-1820937600@www.soapstonecomedy.com
SUMMARY:Trivia Hour
DESCRIPTION:
URL:https://www.soapstonecomedy.com/event/18-plus-trivia-hour-at-the-soapstone-2/2027-09-14/
LOCATION:The Soapstone Comedy Club – NYC 18+
CATEGORIES:Social,Trivia
ATTACH;FMTTYPE=image/png:https://www.soapstonecomedy.com/wp-content/uploads/2025/09/2026-TRIVIA-HOUR-1224x756-1.png
END:VEVENT
BEGIN:VEVENT
DTSTART;TZID=America/Detroit:20270914T210000
DTEND;TZID=America/Detroit:20270914T220000
DTSTAMP:20260422T064023
CREATED:20250911T163548Z
LAST-MODIFIED:20260224T130644Z
UID:10013645-1820955600-1820959200@www.soapstonecomedy.com
SUMMARY:Trivia Hour
DESCRIPTION:Trivia! Pop by to see if you are smarter than the average avatar and for a chance to win a $25 gift card.
URL:https://www.soapstonecomedy.com/event/18-plus-trivia-hour-at-the-soapstone/2027-09-14/
LOCATION:The Soapstone Comedy Club – NYC 18+
CATEGORIES:Social,Trivia
ATTACH;FMTTYPE=image/png:https://www.soapstonecomedy.com/wp-content/uploads/2025/09/2026-TRIVIA-HOUR-1224x756-1.png
END:VEVENT
BEGIN:VEVENT
DTSTART;TZID=America/Detroit:20270914T220000
DTEND;TZID=America/Detroit:20270914T230000
DTSTAMP:20260422T064023
CREATED:20251114T122438Z
LAST-MODIFIED:20260224T130436Z
UID:10014882-1820959200-1820962800@www.soapstonecomedy.com
SUMMARY:The SoapSTOVE
DESCRIPTION:
URL:https://www.soapstonecomedy.com/event/18-plus-the-soapstove-2/2027-09-14/
LOCATION:The Soapstone Comedy Club – NYC 18+
CATEGORIES:Social
ATTACH;FMTTYPE=image/png:https://www.soapstonecomedy.com/wp-content/uploads/2026/02/2026-SOAPSTOVE-1224x756-1.png
END:VEVENT
BEGIN:VEVENT
DTSTART;TZID=America/Detroit:20270915T150000
DTEND;TZID=America/Detroit:20270915T160000
DTSTAMP:20260422T064023
CREATED:20250911T173438Z
LAST-MODIFIED:20260224T130632Z
UID:10008270-1821020400-1821024000@www.soapstonecomedy.com
SUMMARY:Hello Soapstone!
DESCRIPTION:
URL:https://www.soapstonecomedy.com/event/18-plus-hello-soapstone/2027-09-15/
LOCATION:The Soapstone Comedy Club – NYC 18+
CATEGORIES:Social
ATTACH;FMTTYPE=image/png:https://www.soapstonecomedy.com/wp-content/uploads/2026/02/2026-HELLO-SOAPSTONE-1224x756-1.png
END:VEVENT
BEGIN:VEVENT
DTSTART;TZID=America/Detroit:20270915T210000
DTEND;TZID=America/Detroit:20270915T220000
DTSTAMP:20260422T064023
CREATED:20250911T172614Z
LAST-MODIFIED:20260224T130618Z
UID:10007742-1821042000-1821045600@www.soapstonecomedy.com
SUMMARY:Hello Soapstone!
DESCRIPTION:
URL:https://www.soapstonecomedy.com/event/18-plus-hello-soapstone-2/2027-09-15/
LOCATION:The Soapstone Comedy Club – NYC 18+
CATEGORIES:Social
ATTACH;FMTTYPE=image/png:https://www.soapstonecomedy.com/wp-content/uploads/2026/02/2026-HELLO-SOAPSTONE-1224x756-1.png
END:VEVENT
BEGIN:VEVENT
DTSTART;TZID=America/Detroit:20270916T150000
DTEND;TZID=America/Detroit:20270916T160000
DTSTAMP:20260422T064023
CREATED:20260106T153156Z
LAST-MODIFIED:20260224T130347Z
UID:10015410-1821106800-1821110400@www.soapstonecomedy.com
SUMMARY:Le Soapstone
DESCRIPTION:
URL:https://www.soapstonecomedy.com/event/18-plus-le-soapstone-2-2-2/2027-09-16/
LOCATION:The Soapstone Comedy Club – NYC 18+
CATEGORIES:Music,Social
ATTACH;FMTTYPE=image/png:https://www.soapstonecomedy.com/wp-content/uploads/2026/02/2026-LE-SOAPSTONE-TH-1224x756-1.png
END:VEVENT
BEGIN:VEVENT
DTSTART;TZID=America/Detroit:20270917T150000
DTEND;TZID=America/Detroit:20270917T160000
DTSTAMP:20260422T064023
CREATED:20251114T124345Z
LAST-MODIFIED:20260224T130606Z
UID:10006688-1821193200-1821196800@www.soapstonecomedy.com
SUMMARY:Soapstone Soundstage
DESCRIPTION:
URL:https://www.soapstonecomedy.com/event/18-plus-soapstone-soundstage-2-2/2027-09-17/
LOCATION:The Soapstone Comedy Club – NYC 18+
CATEGORIES:Music
ATTACH;FMTTYPE=image/png:https://www.soapstonecomedy.com/wp-content/uploads/2026/02/2026-SOUNDSTAGE-1224x756-1.png
END:VEVENT
BEGIN:VEVENT
DTSTART;TZID=America/Detroit:20270917T210000
DTEND;TZID=America/Detroit:20270917T220000
DTSTAMP:20260422T064023
CREATED:20251114T124018Z
LAST-MODIFIED:20260224T130554Z
UID:10008797-1821214800-1821218400@www.soapstonecomedy.com
SUMMARY:Soapstone Soundstage
DESCRIPTION:
URL:https://www.soapstonecomedy.com/event/18-plus-soapstone-soundstage-3/2027-09-17/
LOCATION:The Soapstone Comedy Club – NYC 18+
CATEGORIES:Music
ATTACH;FMTTYPE=image/png:https://www.soapstonecomedy.com/wp-content/uploads/2026/02/2026-SOUNDSTAGE-1224x756-1.png
END:VEVENT
BEGIN:VEVENT
DTSTART;TZID=America/Detroit:20270918T150000
DTEND;TZID=America/Detroit:20270918T160000
DTSTAMP:20260422T064023
CREATED:20250911T174455Z
LAST-MODIFIED:20260224T130542Z
UID:10014184-1821279600-1821283200@www.soapstonecomedy.com
SUMMARY:Improv Hour
DESCRIPTION:
URL:https://www.soapstonecomedy.com/event/18-plus-improv-hour-at-the-soapstone/2027-09-18/
LOCATION:The Soapstone Comedy Club – NYC 18+
CATEGORIES:Improv
ATTACH;FMTTYPE=image/png:https://www.soapstonecomedy.com/wp-content/uploads/2026/02/2026-IMPROV-HOUR-1224x756-1.png
END:VEVENT
BEGIN:VEVENT
DTSTART;TZID=America/Detroit:20270918T210000
DTEND;TZID=America/Detroit:20270918T220000
DTSTAMP:20260422T064023
CREATED:20251114T133416Z
LAST-MODIFIED:20260224T130529Z
UID:10011434-1821301200-1821304800@www.soapstonecomedy.com
SUMMARY:Improv Hour
DESCRIPTION:
URL:https://www.soapstonecomedy.com/event/18-improv-hour-at-the-soapstone-2-2/2027-09-18/
LOCATION:The Soapstone Comedy Club – NYC 18+
CATEGORIES:Improv
ATTACH;FMTTYPE=image/png:https://www.soapstonecomedy.com/wp-content/uploads/2026/02/2026-IMPROV-HOUR-1224x756-1.png
END:VEVENT
BEGIN:VEVENT
DTSTART;TZID=America/Detroit:20270919T150000
DTEND;TZID=America/Detroit:20270919T160000
DTSTAMP:20260422T064023
CREATED:20250912T141829Z
LAST-MODIFIED:20260224T130516Z
UID:10011960-1821366000-1821369600@www.soapstonecomedy.com
SUMMARY:Sunday Improv
DESCRIPTION:
URL:https://www.soapstonecomedy.com/event/18-sunday-improv/2027-09-19/
LOCATION:The Soapstone Comedy Club – NYC 18+
CATEGORIES:Improv
ATTACH;FMTTYPE=image/png:https://www.soapstonecomedy.com/wp-content/uploads/2026/02/2026-SUNDAY-IMPROV-1224x756-1.png
END:VEVENT
BEGIN:VEVENT
DTSTART;TZID=America/Detroit:20270919T210000
DTEND;TZID=America/Detroit:20270919T220000
DTSTAMP:20260422T064023
CREATED:20250831T120606Z
LAST-MODIFIED:20260224T130503Z
UID:10013910-1821387600-1821391200@www.soapstonecomedy.com
SUMMARY:Story Hour
DESCRIPTION:
URL:https://www.soapstonecomedy.com/event/18-story-hour-at-the-soapstone-2/2027-09-19/
LOCATION:The Soapstone Comedy Club – NYC 18+
CATEGORIES:Storytelling
ATTACH;FMTTYPE=image/png:https://www.soapstonecomedy.com/wp-content/uploads/2026/02/2026-STORY-HOUR-1224x756-1.png
END:VEVENT
END:VCALENDAR