BEGIN:VCALENDAR
VERSION:2.0
PRODID:-//Soapstone Comedy - ECPv6.15.0//NONSGML v1.0//EN
CALSCALE:GREGORIAN
METHOD:PUBLISH
X-ORIGINAL-URL:https://www.soapstonecomedy.com
X-WR-CALDESC:Events for Soapstone Comedy
REFRESH-INTERVAL;VALUE=DURATION:PT1H
X-Robots-Tag:noindex
X-PUBLISHED-TTL:PT1H
BEGIN:VTIMEZONE
TZID:America/Detroit
BEGIN:DAYLIGHT
TZOFFSETFROM:-0500
TZOFFSETTO:-0400
TZNAME:EDT
DTSTART:20270314T070000
END:DAYLIGHT
BEGIN:STANDARD
TZOFFSETFROM:-0400
TZOFFSETTO:-0500
TZNAME:EST
DTSTART:20271107T060000
END:STANDARD
END:VTIMEZONE
BEGIN:VEVENT
DTSTART;TZID=America/Detroit:20271102T210000
DTEND;TZID=America/Detroit:20271102T220000
DTSTAMP:20260423T015043
CREATED:20250911T163548Z
LAST-MODIFIED:20260224T130644Z
UID:10013652-1825189200-1825192800@www.soapstonecomedy.com
SUMMARY:Trivia Hour
DESCRIPTION:Trivia! Pop by to see if you are smarter than the average avatar and for a chance to win a $25 gift card.
URL:https://www.soapstonecomedy.com/event/18-plus-trivia-hour-at-the-soapstone/2027-11-02/
LOCATION:The Soapstone Comedy Club – NYC 18+
CATEGORIES:Social,Trivia
ATTACH;FMTTYPE=image/png:https://www.soapstonecomedy.com/wp-content/uploads/2025/09/2026-TRIVIA-HOUR-1224x756-1.png
END:VEVENT
BEGIN:VEVENT
DTSTART;TZID=America/Detroit:20271102T220000
DTEND;TZID=America/Detroit:20271102T230000
DTSTAMP:20260423T015043
CREATED:20251114T122438Z
LAST-MODIFIED:20260224T130436Z
UID:10014889-1825192800-1825196400@www.soapstonecomedy.com
SUMMARY:The SoapSTOVE
DESCRIPTION:
URL:https://www.soapstonecomedy.com/event/18-plus-the-soapstove-2/2027-11-02/
LOCATION:The Soapstone Comedy Club – NYC 18+
CATEGORIES:Social
ATTACH;FMTTYPE=image/png:https://www.soapstonecomedy.com/wp-content/uploads/2026/02/2026-SOAPSTOVE-1224x756-1.png
END:VEVENT
BEGIN:VEVENT
DTSTART;TZID=America/Detroit:20271103T150000
DTEND;TZID=America/Detroit:20271103T160000
DTSTAMP:20260423T015043
CREATED:20250911T173438Z
LAST-MODIFIED:20260224T130632Z
UID:10008277-1825254000-1825257600@www.soapstonecomedy.com
SUMMARY:Hello Soapstone!
DESCRIPTION:
URL:https://www.soapstonecomedy.com/event/18-plus-hello-soapstone/2027-11-03/
LOCATION:The Soapstone Comedy Club – NYC 18+
CATEGORIES:Social
ATTACH;FMTTYPE=image/png:https://www.soapstonecomedy.com/wp-content/uploads/2026/02/2026-HELLO-SOAPSTONE-1224x756-1.png
END:VEVENT
BEGIN:VEVENT
DTSTART;TZID=America/Detroit:20271103T210000
DTEND;TZID=America/Detroit:20271103T220000
DTSTAMP:20260423T015043
CREATED:20250911T172614Z
LAST-MODIFIED:20260224T130618Z
UID:10007749-1825275600-1825279200@www.soapstonecomedy.com
SUMMARY:Hello Soapstone!
DESCRIPTION:
URL:https://www.soapstonecomedy.com/event/18-plus-hello-soapstone-2/2027-11-03/
LOCATION:The Soapstone Comedy Club – NYC 18+
CATEGORIES:Social
ATTACH;FMTTYPE=image/png:https://www.soapstonecomedy.com/wp-content/uploads/2026/02/2026-HELLO-SOAPSTONE-1224x756-1.png
END:VEVENT
BEGIN:VEVENT
DTSTART;TZID=America/Detroit:20271104T150000
DTEND;TZID=America/Detroit:20271104T160000
DTSTAMP:20260423T015043
CREATED:20260106T153156Z
LAST-MODIFIED:20260224T130347Z
UID:10015417-1825340400-1825344000@www.soapstonecomedy.com
SUMMARY:Le Soapstone
DESCRIPTION:
URL:https://www.soapstonecomedy.com/event/18-plus-le-soapstone-2-2-2/2027-11-04/
LOCATION:The Soapstone Comedy Club – NYC 18+
CATEGORIES:Music,Social
ATTACH;FMTTYPE=image/png:https://www.soapstonecomedy.com/wp-content/uploads/2026/02/2026-LE-SOAPSTONE-TH-1224x756-1.png
END:VEVENT
BEGIN:VEVENT
DTSTART;TZID=America/Detroit:20271105T150000
DTEND;TZID=America/Detroit:20271105T160000
DTSTAMP:20260423T015043
CREATED:20251114T124345Z
LAST-MODIFIED:20260224T130606Z
UID:10006695-1825426800-1825430400@www.soapstonecomedy.com
SUMMARY:Soapstone Soundstage
DESCRIPTION:
URL:https://www.soapstonecomedy.com/event/18-plus-soapstone-soundstage-2-2/2027-11-05/
LOCATION:The Soapstone Comedy Club – NYC 18+
CATEGORIES:Music
ATTACH;FMTTYPE=image/png:https://www.soapstonecomedy.com/wp-content/uploads/2026/02/2026-SOUNDSTAGE-1224x756-1.png
END:VEVENT
BEGIN:VEVENT
DTSTART;TZID=America/Detroit:20271105T210000
DTEND;TZID=America/Detroit:20271105T220000
DTSTAMP:20260423T015043
CREATED:20251114T124018Z
LAST-MODIFIED:20260224T130554Z
UID:10008804-1825448400-1825452000@www.soapstonecomedy.com
SUMMARY:Soapstone Soundstage
DESCRIPTION:
URL:https://www.soapstonecomedy.com/event/18-plus-soapstone-soundstage-3/2027-11-05/
LOCATION:The Soapstone Comedy Club – NYC 18+
CATEGORIES:Music
ATTACH;FMTTYPE=image/png:https://www.soapstonecomedy.com/wp-content/uploads/2026/02/2026-SOUNDSTAGE-1224x756-1.png
END:VEVENT
BEGIN:VEVENT
DTSTART;TZID=America/Detroit:20271106T150000
DTEND;TZID=America/Detroit:20271106T160000
DTSTAMP:20260423T015043
CREATED:20250911T174455Z
LAST-MODIFIED:20260224T130542Z
UID:10014191-1825513200-1825516800@www.soapstonecomedy.com
SUMMARY:Improv Hour
DESCRIPTION:
URL:https://www.soapstonecomedy.com/event/18-plus-improv-hour-at-the-soapstone/2027-11-06/
LOCATION:The Soapstone Comedy Club – NYC 18+
CATEGORIES:Improv
ATTACH;FMTTYPE=image/png:https://www.soapstonecomedy.com/wp-content/uploads/2026/02/2026-IMPROV-HOUR-1224x756-1.png
END:VEVENT
BEGIN:VEVENT
DTSTART;TZID=America/Detroit:20271106T210000
DTEND;TZID=America/Detroit:20271106T220000
DTSTAMP:20260423T015043
CREATED:20251114T133416Z
LAST-MODIFIED:20260224T130529Z
UID:10011441-1825534800-1825538400@www.soapstonecomedy.com
SUMMARY:Improv Hour
DESCRIPTION:
URL:https://www.soapstonecomedy.com/event/18-improv-hour-at-the-soapstone-2-2/2027-11-06/
LOCATION:The Soapstone Comedy Club – NYC 18+
CATEGORIES:Improv
ATTACH;FMTTYPE=image/png:https://www.soapstonecomedy.com/wp-content/uploads/2026/02/2026-IMPROV-HOUR-1224x756-1.png
END:VEVENT
BEGIN:VEVENT
DTSTART;TZID=America/Detroit:20271107T150000
DTEND;TZID=America/Detroit:20271107T160000
DTSTAMP:20260423T015043
CREATED:20250912T141829Z
LAST-MODIFIED:20260224T130516Z
UID:10011967-1825599600-1825603200@www.soapstonecomedy.com
SUMMARY:Sunday Improv
DESCRIPTION:
URL:https://www.soapstonecomedy.com/event/18-sunday-improv/2027-11-07/
LOCATION:The Soapstone Comedy Club – NYC 18+
CATEGORIES:Improv
ATTACH;FMTTYPE=image/png:https://www.soapstonecomedy.com/wp-content/uploads/2026/02/2026-SUNDAY-IMPROV-1224x756-1.png
END:VEVENT
BEGIN:VEVENT
DTSTART;TZID=America/Detroit:20271107T210000
DTEND;TZID=America/Detroit:20271107T220000
DTSTAMP:20260423T015043
CREATED:20250831T120606Z
LAST-MODIFIED:20260224T130503Z
UID:10013917-1825621200-1825624800@www.soapstonecomedy.com
SUMMARY:Story Hour
DESCRIPTION:
URL:https://www.soapstonecomedy.com/event/18-story-hour-at-the-soapstone-2/2027-11-07/
LOCATION:The Soapstone Comedy Club – NYC 18+
CATEGORIES:Storytelling
ATTACH;FMTTYPE=image/png:https://www.soapstonecomedy.com/wp-content/uploads/2026/02/2026-STORY-HOUR-1224x756-1.png
END:VEVENT
BEGIN:VEVENT
DTSTART;TZID=America/Detroit:20271108T210000
DTEND;TZID=America/Detroit:20271108T220000
DTSTAMP:20260423T015043
CREATED:20251114T114926Z
LAST-MODIFIED:20260224T130448Z
UID:10010122-1825707600-1825711200@www.soapstonecomedy.com
SUMMARY:Stand-up Showdown
DESCRIPTION:
URL:https://www.soapstonecomedy.com/event/1000-dollar-spotlight-comedy-auditions-18-plus-2-2/2027-11-08/
LOCATION:The Soapstone Comedy Club – NYC 18+
CATEGORIES:Standup Comedy
ATTACH;FMTTYPE=image/png:https://www.soapstonecomedy.com/wp-content/uploads/2026/02/2026-STAND-UP-SHOWDOWN-1224x756-1.png
END:VEVENT
BEGIN:VEVENT
DTSTART;TZID=America/Detroit:20271109T150000
DTEND;TZID=America/Detroit:20271109T160000
DTSTAMP:20260423T015043
CREATED:20250911T164307Z
LAST-MODIFIED:20260224T130656Z
UID:10007222-1825772400-1825776000@www.soapstonecomedy.com
SUMMARY:Trivia Hour
DESCRIPTION:
URL:https://www.soapstonecomedy.com/event/18-plus-trivia-hour-at-the-soapstone-2/2027-11-09/
LOCATION:The Soapstone Comedy Club – NYC 18+
CATEGORIES:Social,Trivia
ATTACH;FMTTYPE=image/png:https://www.soapstonecomedy.com/wp-content/uploads/2025/09/2026-TRIVIA-HOUR-1224x756-1.png
END:VEVENT
BEGIN:VEVENT
DTSTART;TZID=America/Detroit:20271109T210000
DTEND;TZID=America/Detroit:20271109T220000
DTSTAMP:20260423T015043
CREATED:20250911T163548Z
LAST-MODIFIED:20260224T130644Z
UID:10013653-1825794000-1825797600@www.soapstonecomedy.com
SUMMARY:Trivia Hour
DESCRIPTION:Trivia! Pop by to see if you are smarter than the average avatar and for a chance to win a $25 gift card.
URL:https://www.soapstonecomedy.com/event/18-plus-trivia-hour-at-the-soapstone/2027-11-09/
LOCATION:The Soapstone Comedy Club – NYC 18+
CATEGORIES:Social,Trivia
ATTACH;FMTTYPE=image/png:https://www.soapstonecomedy.com/wp-content/uploads/2025/09/2026-TRIVIA-HOUR-1224x756-1.png
END:VEVENT
BEGIN:VEVENT
DTSTART;TZID=America/Detroit:20271109T220000
DTEND;TZID=America/Detroit:20271109T230000
DTSTAMP:20260423T015043
CREATED:20251114T122438Z
LAST-MODIFIED:20260224T130436Z
UID:10014890-1825797600-1825801200@www.soapstonecomedy.com
SUMMARY:The SoapSTOVE
DESCRIPTION:
URL:https://www.soapstonecomedy.com/event/18-plus-the-soapstove-2/2027-11-09/
LOCATION:The Soapstone Comedy Club – NYC 18+
CATEGORIES:Social
ATTACH;FMTTYPE=image/png:https://www.soapstonecomedy.com/wp-content/uploads/2026/02/2026-SOAPSTOVE-1224x756-1.png
END:VEVENT
BEGIN:VEVENT
DTSTART;TZID=America/Detroit:20271110T150000
DTEND;TZID=America/Detroit:20271110T160000
DTSTAMP:20260423T015043
CREATED:20250911T173438Z
LAST-MODIFIED:20260224T130632Z
UID:10008278-1825858800-1825862400@www.soapstonecomedy.com
SUMMARY:Hello Soapstone!
DESCRIPTION:
URL:https://www.soapstonecomedy.com/event/18-plus-hello-soapstone/2027-11-10/
LOCATION:The Soapstone Comedy Club – NYC 18+
CATEGORIES:Social
ATTACH;FMTTYPE=image/png:https://www.soapstonecomedy.com/wp-content/uploads/2026/02/2026-HELLO-SOAPSTONE-1224x756-1.png
END:VEVENT
BEGIN:VEVENT
DTSTART;TZID=America/Detroit:20271110T210000
DTEND;TZID=America/Detroit:20271110T220000
DTSTAMP:20260423T015043
CREATED:20250911T172614Z
LAST-MODIFIED:20260224T130618Z
UID:10007750-1825880400-1825884000@www.soapstonecomedy.com
SUMMARY:Hello Soapstone!
DESCRIPTION:
URL:https://www.soapstonecomedy.com/event/18-plus-hello-soapstone-2/2027-11-10/
LOCATION:The Soapstone Comedy Club – NYC 18+
CATEGORIES:Social
ATTACH;FMTTYPE=image/png:https://www.soapstonecomedy.com/wp-content/uploads/2026/02/2026-HELLO-SOAPSTONE-1224x756-1.png
END:VEVENT
BEGIN:VEVENT
DTSTART;TZID=America/Detroit:20271111T150000
DTEND;TZID=America/Detroit:20271111T160000
DTSTAMP:20260423T015043
CREATED:20260106T153156Z
LAST-MODIFIED:20260224T130347Z
UID:10015418-1825945200-1825948800@www.soapstonecomedy.com
SUMMARY:Le Soapstone
DESCRIPTION:
URL:https://www.soapstonecomedy.com/event/18-plus-le-soapstone-2-2-2/2027-11-11/
LOCATION:The Soapstone Comedy Club – NYC 18+
CATEGORIES:Music,Social
ATTACH;FMTTYPE=image/png:https://www.soapstonecomedy.com/wp-content/uploads/2026/02/2026-LE-SOAPSTONE-TH-1224x756-1.png
END:VEVENT
BEGIN:VEVENT
DTSTART;TZID=America/Detroit:20271112T150000
DTEND;TZID=America/Detroit:20271112T160000
DTSTAMP:20260423T015043
CREATED:20251114T124345Z
LAST-MODIFIED:20260224T130606Z
UID:10006696-1826031600-1826035200@www.soapstonecomedy.com
SUMMARY:Soapstone Soundstage
DESCRIPTION:
URL:https://www.soapstonecomedy.com/event/18-plus-soapstone-soundstage-2-2/2027-11-12/
LOCATION:The Soapstone Comedy Club – NYC 18+
CATEGORIES:Music
ATTACH;FMTTYPE=image/png:https://www.soapstonecomedy.com/wp-content/uploads/2026/02/2026-SOUNDSTAGE-1224x756-1.png
END:VEVENT
BEGIN:VEVENT
DTSTART;TZID=America/Detroit:20271112T210000
DTEND;TZID=America/Detroit:20271112T220000
DTSTAMP:20260423T015043
CREATED:20251114T124018Z
LAST-MODIFIED:20260224T130554Z
UID:10008805-1826053200-1826056800@www.soapstonecomedy.com
SUMMARY:Soapstone Soundstage
DESCRIPTION:
URL:https://www.soapstonecomedy.com/event/18-plus-soapstone-soundstage-3/2027-11-12/
LOCATION:The Soapstone Comedy Club – NYC 18+
CATEGORIES:Music
ATTACH;FMTTYPE=image/png:https://www.soapstonecomedy.com/wp-content/uploads/2026/02/2026-SOUNDSTAGE-1224x756-1.png
END:VEVENT
BEGIN:VEVENT
DTSTART;TZID=America/Detroit:20271113T150000
DTEND;TZID=America/Detroit:20271113T160000
DTSTAMP:20260423T015043
CREATED:20250911T174455Z
LAST-MODIFIED:20260224T130542Z
UID:10014192-1826118000-1826121600@www.soapstonecomedy.com
SUMMARY:Improv Hour
DESCRIPTION:
URL:https://www.soapstonecomedy.com/event/18-plus-improv-hour-at-the-soapstone/2027-11-13/
LOCATION:The Soapstone Comedy Club – NYC 18+
CATEGORIES:Improv
ATTACH;FMTTYPE=image/png:https://www.soapstonecomedy.com/wp-content/uploads/2026/02/2026-IMPROV-HOUR-1224x756-1.png
END:VEVENT
BEGIN:VEVENT
DTSTART;TZID=America/Detroit:20271113T210000
DTEND;TZID=America/Detroit:20271113T220000
DTSTAMP:20260423T015043
CREATED:20251114T133416Z
LAST-MODIFIED:20260224T130529Z
UID:10011442-1826139600-1826143200@www.soapstonecomedy.com
SUMMARY:Improv Hour
DESCRIPTION:
URL:https://www.soapstonecomedy.com/event/18-improv-hour-at-the-soapstone-2-2/2027-11-13/
LOCATION:The Soapstone Comedy Club – NYC 18+
CATEGORIES:Improv
ATTACH;FMTTYPE=image/png:https://www.soapstonecomedy.com/wp-content/uploads/2026/02/2026-IMPROV-HOUR-1224x756-1.png
END:VEVENT
BEGIN:VEVENT
DTSTART;TZID=America/Detroit:20271114T150000
DTEND;TZID=America/Detroit:20271114T160000
DTSTAMP:20260423T015043
CREATED:20250912T141829Z
LAST-MODIFIED:20260224T130516Z
UID:10011968-1826204400-1826208000@www.soapstonecomedy.com
SUMMARY:Sunday Improv
DESCRIPTION:
URL:https://www.soapstonecomedy.com/event/18-sunday-improv/2027-11-14/
LOCATION:The Soapstone Comedy Club – NYC 18+
CATEGORIES:Improv
ATTACH;FMTTYPE=image/png:https://www.soapstonecomedy.com/wp-content/uploads/2026/02/2026-SUNDAY-IMPROV-1224x756-1.png
END:VEVENT
BEGIN:VEVENT
DTSTART;TZID=America/Detroit:20271114T210000
DTEND;TZID=America/Detroit:20271114T220000
DTSTAMP:20260423T015043
CREATED:20250831T120606Z
LAST-MODIFIED:20260224T130503Z
UID:10013918-1826226000-1826229600@www.soapstonecomedy.com
SUMMARY:Story Hour
DESCRIPTION:
URL:https://www.soapstonecomedy.com/event/18-story-hour-at-the-soapstone-2/2027-11-14/
LOCATION:The Soapstone Comedy Club – NYC 18+
CATEGORIES:Storytelling
ATTACH;FMTTYPE=image/png:https://www.soapstonecomedy.com/wp-content/uploads/2026/02/2026-STORY-HOUR-1224x756-1.png
END:VEVENT
BEGIN:VEVENT
DTSTART;TZID=America/Detroit:20271115T210000
DTEND;TZID=America/Detroit:20271115T220000
DTSTAMP:20260423T015043
CREATED:20251114T114926Z
LAST-MODIFIED:20260224T130448Z
UID:10010123-1826312400-1826316000@www.soapstonecomedy.com
SUMMARY:Stand-up Showdown
DESCRIPTION:
URL:https://www.soapstonecomedy.com/event/1000-dollar-spotlight-comedy-auditions-18-plus-2-2/2027-11-15/
LOCATION:The Soapstone Comedy Club – NYC 18+
CATEGORIES:Standup Comedy
ATTACH;FMTTYPE=image/png:https://www.soapstonecomedy.com/wp-content/uploads/2026/02/2026-STAND-UP-SHOWDOWN-1224x756-1.png
END:VEVENT
BEGIN:VEVENT
DTSTART;TZID=America/Detroit:20271116T150000
DTEND;TZID=America/Detroit:20271116T160000
DTSTAMP:20260423T015043
CREATED:20250911T164307Z
LAST-MODIFIED:20260224T130656Z
UID:10007223-1826377200-1826380800@www.soapstonecomedy.com
SUMMARY:Trivia Hour
DESCRIPTION:
URL:https://www.soapstonecomedy.com/event/18-plus-trivia-hour-at-the-soapstone-2/2027-11-16/
LOCATION:The Soapstone Comedy Club – NYC 18+
CATEGORIES:Social,Trivia
ATTACH;FMTTYPE=image/png:https://www.soapstonecomedy.com/wp-content/uploads/2025/09/2026-TRIVIA-HOUR-1224x756-1.png
END:VEVENT
BEGIN:VEVENT
DTSTART;TZID=America/Detroit:20271116T210000
DTEND;TZID=America/Detroit:20271116T220000
DTSTAMP:20260423T015043
CREATED:20250911T163548Z
LAST-MODIFIED:20260224T130644Z
UID:10013654-1826398800-1826402400@www.soapstonecomedy.com
SUMMARY:Trivia Hour
DESCRIPTION:Trivia! Pop by to see if you are smarter than the average avatar and for a chance to win a $25 gift card.
URL:https://www.soapstonecomedy.com/event/18-plus-trivia-hour-at-the-soapstone/2027-11-16/
LOCATION:The Soapstone Comedy Club – NYC 18+
CATEGORIES:Social,Trivia
ATTACH;FMTTYPE=image/png:https://www.soapstonecomedy.com/wp-content/uploads/2025/09/2026-TRIVIA-HOUR-1224x756-1.png
END:VEVENT
BEGIN:VEVENT
DTSTART;TZID=America/Detroit:20271116T220000
DTEND;TZID=America/Detroit:20271116T230000
DTSTAMP:20260423T015043
CREATED:20251114T122438Z
LAST-MODIFIED:20260224T130436Z
UID:10014891-1826402400-1826406000@www.soapstonecomedy.com
SUMMARY:The SoapSTOVE
DESCRIPTION:
URL:https://www.soapstonecomedy.com/event/18-plus-the-soapstove-2/2027-11-16/
LOCATION:The Soapstone Comedy Club – NYC 18+
CATEGORIES:Social
ATTACH;FMTTYPE=image/png:https://www.soapstonecomedy.com/wp-content/uploads/2026/02/2026-SOAPSTOVE-1224x756-1.png
END:VEVENT
BEGIN:VEVENT
DTSTART;TZID=America/Detroit:20271117T150000
DTEND;TZID=America/Detroit:20271117T160000
DTSTAMP:20260423T015043
CREATED:20250911T173438Z
LAST-MODIFIED:20260224T130632Z
UID:10008279-1826463600-1826467200@www.soapstonecomedy.com
SUMMARY:Hello Soapstone!
DESCRIPTION:
URL:https://www.soapstonecomedy.com/event/18-plus-hello-soapstone/2027-11-17/
LOCATION:The Soapstone Comedy Club – NYC 18+
CATEGORIES:Social
ATTACH;FMTTYPE=image/png:https://www.soapstonecomedy.com/wp-content/uploads/2026/02/2026-HELLO-SOAPSTONE-1224x756-1.png
END:VEVENT
BEGIN:VEVENT
DTSTART;TZID=America/Detroit:20271117T210000
DTEND;TZID=America/Detroit:20271117T220000
DTSTAMP:20260423T015043
CREATED:20250911T172614Z
LAST-MODIFIED:20260224T130618Z
UID:10007751-1826485200-1826488800@www.soapstonecomedy.com
SUMMARY:Hello Soapstone!
DESCRIPTION:
URL:https://www.soapstonecomedy.com/event/18-plus-hello-soapstone-2/2027-11-17/
LOCATION:The Soapstone Comedy Club – NYC 18+
CATEGORIES:Social
ATTACH;FMTTYPE=image/png:https://www.soapstonecomedy.com/wp-content/uploads/2026/02/2026-HELLO-SOAPSTONE-1224x756-1.png
END:VEVENT
END:VCALENDAR