BEGIN:VCALENDAR
VERSION:2.0
PRODID:-//Soapstone Comedy - ECPv6.15.0//NONSGML v1.0//EN
CALSCALE:GREGORIAN
METHOD:PUBLISH
X-WR-CALNAME:Soapstone Comedy
X-ORIGINAL-URL:https://www.soapstonecomedy.com
X-WR-CALDESC:Events for Soapstone Comedy
REFRESH-INTERVAL;VALUE=DURATION:PT1H
X-Robots-Tag:noindex
X-PUBLISHED-TTL:PT1H
BEGIN:VTIMEZONE
TZID:America/Detroit
BEGIN:DAYLIGHT
TZOFFSETFROM:-0500
TZOFFSETTO:-0400
TZNAME:EDT
DTSTART:20270314T070000
END:DAYLIGHT
BEGIN:STANDARD
TZOFFSETFROM:-0400
TZOFFSETTO:-0500
TZNAME:EST
DTSTART:20271107T060000
END:STANDARD
END:VTIMEZONE
BEGIN:VEVENT
DTSTART;TZID=America/Detroit:20271118T150000
DTEND;TZID=America/Detroit:20271118T160000
DTSTAMP:20260423T072257
CREATED:20260106T153156Z
LAST-MODIFIED:20260224T130347Z
UID:10015419-1826550000-1826553600@www.soapstonecomedy.com
SUMMARY:Le Soapstone
DESCRIPTION:
URL:https://www.soapstonecomedy.com/event/18-plus-le-soapstone-2-2-2/2027-11-18/
LOCATION:The Soapstone Comedy Club – NYC 18+
CATEGORIES:Music,Social
ATTACH;FMTTYPE=image/png:https://www.soapstonecomedy.com/wp-content/uploads/2026/02/2026-LE-SOAPSTONE-TH-1224x756-1.png
END:VEVENT
BEGIN:VEVENT
DTSTART;TZID=America/Detroit:20271119T150000
DTEND;TZID=America/Detroit:20271119T160000
DTSTAMP:20260423T072257
CREATED:20251114T124345Z
LAST-MODIFIED:20260224T130606Z
UID:10006697-1826636400-1826640000@www.soapstonecomedy.com
SUMMARY:Soapstone Soundstage
DESCRIPTION:
URL:https://www.soapstonecomedy.com/event/18-plus-soapstone-soundstage-2-2/2027-11-19/
LOCATION:The Soapstone Comedy Club – NYC 18+
CATEGORIES:Music
ATTACH;FMTTYPE=image/png:https://www.soapstonecomedy.com/wp-content/uploads/2026/02/2026-SOUNDSTAGE-1224x756-1.png
END:VEVENT
BEGIN:VEVENT
DTSTART;TZID=America/Detroit:20271119T210000
DTEND;TZID=America/Detroit:20271119T220000
DTSTAMP:20260423T072257
CREATED:20251114T124018Z
LAST-MODIFIED:20260224T130554Z
UID:10008806-1826658000-1826661600@www.soapstonecomedy.com
SUMMARY:Soapstone Soundstage
DESCRIPTION:
URL:https://www.soapstonecomedy.com/event/18-plus-soapstone-soundstage-3/2027-11-19/
LOCATION:The Soapstone Comedy Club – NYC 18+
CATEGORIES:Music
ATTACH;FMTTYPE=image/png:https://www.soapstonecomedy.com/wp-content/uploads/2026/02/2026-SOUNDSTAGE-1224x756-1.png
END:VEVENT
BEGIN:VEVENT
DTSTART;TZID=America/Detroit:20271120T150000
DTEND;TZID=America/Detroit:20271120T160000
DTSTAMP:20260423T072258
CREATED:20250911T174455Z
LAST-MODIFIED:20260224T130542Z
UID:10014193-1826722800-1826726400@www.soapstonecomedy.com
SUMMARY:Improv Hour
DESCRIPTION:
URL:https://www.soapstonecomedy.com/event/18-plus-improv-hour-at-the-soapstone/2027-11-20/
LOCATION:The Soapstone Comedy Club – NYC 18+
CATEGORIES:Improv
ATTACH;FMTTYPE=image/png:https://www.soapstonecomedy.com/wp-content/uploads/2026/02/2026-IMPROV-HOUR-1224x756-1.png
END:VEVENT
BEGIN:VEVENT
DTSTART;TZID=America/Detroit:20271120T210000
DTEND;TZID=America/Detroit:20271120T220000
DTSTAMP:20260423T072258
CREATED:20251114T133416Z
LAST-MODIFIED:20260224T130529Z
UID:10011443-1826744400-1826748000@www.soapstonecomedy.com
SUMMARY:Improv Hour
DESCRIPTION:
URL:https://www.soapstonecomedy.com/event/18-improv-hour-at-the-soapstone-2-2/2027-11-20/
LOCATION:The Soapstone Comedy Club – NYC 18+
CATEGORIES:Improv
ATTACH;FMTTYPE=image/png:https://www.soapstonecomedy.com/wp-content/uploads/2026/02/2026-IMPROV-HOUR-1224x756-1.png
END:VEVENT
BEGIN:VEVENT
DTSTART;TZID=America/Detroit:20271121T150000
DTEND;TZID=America/Detroit:20271121T160000
DTSTAMP:20260423T072258
CREATED:20250912T141829Z
LAST-MODIFIED:20260224T130516Z
UID:10011969-1826809200-1826812800@www.soapstonecomedy.com
SUMMARY:Sunday Improv
DESCRIPTION:
URL:https://www.soapstonecomedy.com/event/18-sunday-improv/2027-11-21/
LOCATION:The Soapstone Comedy Club – NYC 18+
CATEGORIES:Improv
ATTACH;FMTTYPE=image/png:https://www.soapstonecomedy.com/wp-content/uploads/2026/02/2026-SUNDAY-IMPROV-1224x756-1.png
END:VEVENT
BEGIN:VEVENT
DTSTART;TZID=America/Detroit:20271121T210000
DTEND;TZID=America/Detroit:20271121T220000
DTSTAMP:20260423T072258
CREATED:20250831T120606Z
LAST-MODIFIED:20260224T130503Z
UID:10013919-1826830800-1826834400@www.soapstonecomedy.com
SUMMARY:Story Hour
DESCRIPTION:
URL:https://www.soapstonecomedy.com/event/18-story-hour-at-the-soapstone-2/2027-11-21/
LOCATION:The Soapstone Comedy Club – NYC 18+
CATEGORIES:Storytelling
ATTACH;FMTTYPE=image/png:https://www.soapstonecomedy.com/wp-content/uploads/2026/02/2026-STORY-HOUR-1224x756-1.png
END:VEVENT
BEGIN:VEVENT
DTSTART;TZID=America/Detroit:20271122T210000
DTEND;TZID=America/Detroit:20271122T220000
DTSTAMP:20260423T072258
CREATED:20251114T114926Z
LAST-MODIFIED:20260224T130448Z
UID:10010124-1826917200-1826920800@www.soapstonecomedy.com
SUMMARY:Stand-up Showdown
DESCRIPTION:
URL:https://www.soapstonecomedy.com/event/1000-dollar-spotlight-comedy-auditions-18-plus-2-2/2027-11-22/
LOCATION:The Soapstone Comedy Club – NYC 18+
CATEGORIES:Standup Comedy
ATTACH;FMTTYPE=image/png:https://www.soapstonecomedy.com/wp-content/uploads/2026/02/2026-STAND-UP-SHOWDOWN-1224x756-1.png
END:VEVENT
BEGIN:VEVENT
DTSTART;TZID=America/Detroit:20271123T150000
DTEND;TZID=America/Detroit:20271123T160000
DTSTAMP:20260423T072258
CREATED:20250911T164307Z
LAST-MODIFIED:20260224T130656Z
UID:10007224-1826982000-1826985600@www.soapstonecomedy.com
SUMMARY:Trivia Hour
DESCRIPTION:
URL:https://www.soapstonecomedy.com/event/18-plus-trivia-hour-at-the-soapstone-2/2027-11-23/
LOCATION:The Soapstone Comedy Club – NYC 18+
CATEGORIES:Social,Trivia
ATTACH;FMTTYPE=image/png:https://www.soapstonecomedy.com/wp-content/uploads/2025/09/2026-TRIVIA-HOUR-1224x756-1.png
END:VEVENT
BEGIN:VEVENT
DTSTART;TZID=America/Detroit:20271123T210000
DTEND;TZID=America/Detroit:20271123T220000
DTSTAMP:20260423T072258
CREATED:20250911T163548Z
LAST-MODIFIED:20260224T130644Z
UID:10013655-1827003600-1827007200@www.soapstonecomedy.com
SUMMARY:Trivia Hour
DESCRIPTION:Trivia! Pop by to see if you are smarter than the average avatar and for a chance to win a $25 gift card.
URL:https://www.soapstonecomedy.com/event/18-plus-trivia-hour-at-the-soapstone/2027-11-23/
LOCATION:The Soapstone Comedy Club – NYC 18+
CATEGORIES:Social,Trivia
ATTACH;FMTTYPE=image/png:https://www.soapstonecomedy.com/wp-content/uploads/2025/09/2026-TRIVIA-HOUR-1224x756-1.png
END:VEVENT
BEGIN:VEVENT
DTSTART;TZID=America/Detroit:20271123T220000
DTEND;TZID=America/Detroit:20271123T230000
DTSTAMP:20260423T072258
CREATED:20251114T122438Z
LAST-MODIFIED:20260224T130436Z
UID:10014892-1827007200-1827010800@www.soapstonecomedy.com
SUMMARY:The SoapSTOVE
DESCRIPTION:
URL:https://www.soapstonecomedy.com/event/18-plus-the-soapstove-2/2027-11-23/
LOCATION:The Soapstone Comedy Club – NYC 18+
CATEGORIES:Social
ATTACH;FMTTYPE=image/png:https://www.soapstonecomedy.com/wp-content/uploads/2026/02/2026-SOAPSTOVE-1224x756-1.png
END:VEVENT
BEGIN:VEVENT
DTSTART;TZID=America/Detroit:20271124T150000
DTEND;TZID=America/Detroit:20271124T160000
DTSTAMP:20260423T072258
CREATED:20250911T173438Z
LAST-MODIFIED:20260224T130632Z
UID:10008280-1827068400-1827072000@www.soapstonecomedy.com
SUMMARY:Hello Soapstone!
DESCRIPTION:
URL:https://www.soapstonecomedy.com/event/18-plus-hello-soapstone/2027-11-24/
LOCATION:The Soapstone Comedy Club – NYC 18+
CATEGORIES:Social
ATTACH;FMTTYPE=image/png:https://www.soapstonecomedy.com/wp-content/uploads/2026/02/2026-HELLO-SOAPSTONE-1224x756-1.png
END:VEVENT
BEGIN:VEVENT
DTSTART;TZID=America/Detroit:20271124T210000
DTEND;TZID=America/Detroit:20271124T220000
DTSTAMP:20260423T072258
CREATED:20250911T172614Z
LAST-MODIFIED:20260224T130618Z
UID:10007752-1827090000-1827093600@www.soapstonecomedy.com
SUMMARY:Hello Soapstone!
DESCRIPTION:
URL:https://www.soapstonecomedy.com/event/18-plus-hello-soapstone-2/2027-11-24/
LOCATION:The Soapstone Comedy Club – NYC 18+
CATEGORIES:Social
ATTACH;FMTTYPE=image/png:https://www.soapstonecomedy.com/wp-content/uploads/2026/02/2026-HELLO-SOAPSTONE-1224x756-1.png
END:VEVENT
BEGIN:VEVENT
DTSTART;TZID=America/Detroit:20271125T150000
DTEND;TZID=America/Detroit:20271125T160000
DTSTAMP:20260423T072258
CREATED:20260106T153156Z
LAST-MODIFIED:20260224T130347Z
UID:10015420-1827154800-1827158400@www.soapstonecomedy.com
SUMMARY:Le Soapstone
DESCRIPTION:
URL:https://www.soapstonecomedy.com/event/18-plus-le-soapstone-2-2-2/2027-11-25/
LOCATION:The Soapstone Comedy Club – NYC 18+
CATEGORIES:Music,Social
ATTACH;FMTTYPE=image/png:https://www.soapstonecomedy.com/wp-content/uploads/2026/02/2026-LE-SOAPSTONE-TH-1224x756-1.png
END:VEVENT
BEGIN:VEVENT
DTSTART;TZID=America/Detroit:20271126T150000
DTEND;TZID=America/Detroit:20271126T160000
DTSTAMP:20260423T072258
CREATED:20251114T124345Z
LAST-MODIFIED:20260224T130606Z
UID:10006698-1827241200-1827244800@www.soapstonecomedy.com
SUMMARY:Soapstone Soundstage
DESCRIPTION:
URL:https://www.soapstonecomedy.com/event/18-plus-soapstone-soundstage-2-2/2027-11-26/
LOCATION:The Soapstone Comedy Club – NYC 18+
CATEGORIES:Music
ATTACH;FMTTYPE=image/png:https://www.soapstonecomedy.com/wp-content/uploads/2026/02/2026-SOUNDSTAGE-1224x756-1.png
END:VEVENT
BEGIN:VEVENT
DTSTART;TZID=America/Detroit:20271126T210000
DTEND;TZID=America/Detroit:20271126T220000
DTSTAMP:20260423T072258
CREATED:20251114T124018Z
LAST-MODIFIED:20260224T130554Z
UID:10008807-1827262800-1827266400@www.soapstonecomedy.com
SUMMARY:Soapstone Soundstage
DESCRIPTION:
URL:https://www.soapstonecomedy.com/event/18-plus-soapstone-soundstage-3/2027-11-26/
LOCATION:The Soapstone Comedy Club – NYC 18+
CATEGORIES:Music
ATTACH;FMTTYPE=image/png:https://www.soapstonecomedy.com/wp-content/uploads/2026/02/2026-SOUNDSTAGE-1224x756-1.png
END:VEVENT
BEGIN:VEVENT
DTSTART;TZID=America/Detroit:20271127T150000
DTEND;TZID=America/Detroit:20271127T160000
DTSTAMP:20260423T072258
CREATED:20250911T174455Z
LAST-MODIFIED:20260224T130542Z
UID:10014194-1827327600-1827331200@www.soapstonecomedy.com
SUMMARY:Improv Hour
DESCRIPTION:
URL:https://www.soapstonecomedy.com/event/18-plus-improv-hour-at-the-soapstone/2027-11-27/
LOCATION:The Soapstone Comedy Club – NYC 18+
CATEGORIES:Improv
ATTACH;FMTTYPE=image/png:https://www.soapstonecomedy.com/wp-content/uploads/2026/02/2026-IMPROV-HOUR-1224x756-1.png
END:VEVENT
BEGIN:VEVENT
DTSTART;TZID=America/Detroit:20271127T210000
DTEND;TZID=America/Detroit:20271127T220000
DTSTAMP:20260423T072258
CREATED:20251114T133416Z
LAST-MODIFIED:20260224T130529Z
UID:10011444-1827349200-1827352800@www.soapstonecomedy.com
SUMMARY:Improv Hour
DESCRIPTION:
URL:https://www.soapstonecomedy.com/event/18-improv-hour-at-the-soapstone-2-2/2027-11-27/
LOCATION:The Soapstone Comedy Club – NYC 18+
CATEGORIES:Improv
ATTACH;FMTTYPE=image/png:https://www.soapstonecomedy.com/wp-content/uploads/2026/02/2026-IMPROV-HOUR-1224x756-1.png
END:VEVENT
BEGIN:VEVENT
DTSTART;TZID=America/Detroit:20271128T150000
DTEND;TZID=America/Detroit:20271128T160000
DTSTAMP:20260423T072258
CREATED:20250912T141829Z
LAST-MODIFIED:20260224T130516Z
UID:10011970-1827414000-1827417600@www.soapstonecomedy.com
SUMMARY:Sunday Improv
DESCRIPTION:
URL:https://www.soapstonecomedy.com/event/18-sunday-improv/2027-11-28/
LOCATION:The Soapstone Comedy Club – NYC 18+
CATEGORIES:Improv
ATTACH;FMTTYPE=image/png:https://www.soapstonecomedy.com/wp-content/uploads/2026/02/2026-SUNDAY-IMPROV-1224x756-1.png
END:VEVENT
BEGIN:VEVENT
DTSTART;TZID=America/Detroit:20271128T210000
DTEND;TZID=America/Detroit:20271128T220000
DTSTAMP:20260423T072258
CREATED:20250831T120606Z
LAST-MODIFIED:20260224T130503Z
UID:10013920-1827435600-1827439200@www.soapstonecomedy.com
SUMMARY:Story Hour
DESCRIPTION:
URL:https://www.soapstonecomedy.com/event/18-story-hour-at-the-soapstone-2/2027-11-28/
LOCATION:The Soapstone Comedy Club – NYC 18+
CATEGORIES:Storytelling
ATTACH;FMTTYPE=image/png:https://www.soapstonecomedy.com/wp-content/uploads/2026/02/2026-STORY-HOUR-1224x756-1.png
END:VEVENT
BEGIN:VEVENT
DTSTART;TZID=America/Detroit:20271129T210000
DTEND;TZID=America/Detroit:20271129T220000
DTSTAMP:20260423T072258
CREATED:20251114T114926Z
LAST-MODIFIED:20260224T130448Z
UID:10010125-1827522000-1827525600@www.soapstonecomedy.com
SUMMARY:Stand-up Showdown
DESCRIPTION:
URL:https://www.soapstonecomedy.com/event/1000-dollar-spotlight-comedy-auditions-18-plus-2-2/2027-11-29/
LOCATION:The Soapstone Comedy Club – NYC 18+
CATEGORIES:Standup Comedy
ATTACH;FMTTYPE=image/png:https://www.soapstonecomedy.com/wp-content/uploads/2026/02/2026-STAND-UP-SHOWDOWN-1224x756-1.png
END:VEVENT
BEGIN:VEVENT
DTSTART;TZID=America/Detroit:20271130T150000
DTEND;TZID=America/Detroit:20271130T160000
DTSTAMP:20260423T072258
CREATED:20250911T164307Z
LAST-MODIFIED:20260224T130656Z
UID:10007225-1827586800-1827590400@www.soapstonecomedy.com
SUMMARY:Trivia Hour
DESCRIPTION:
URL:https://www.soapstonecomedy.com/event/18-plus-trivia-hour-at-the-soapstone-2/2027-11-30/
LOCATION:The Soapstone Comedy Club – NYC 18+
CATEGORIES:Social,Trivia
ATTACH;FMTTYPE=image/png:https://www.soapstonecomedy.com/wp-content/uploads/2025/09/2026-TRIVIA-HOUR-1224x756-1.png
END:VEVENT
BEGIN:VEVENT
DTSTART;TZID=America/Detroit:20271130T210000
DTEND;TZID=America/Detroit:20271130T220000
DTSTAMP:20260423T072258
CREATED:20250911T163548Z
LAST-MODIFIED:20260224T130644Z
UID:10013656-1827608400-1827612000@www.soapstonecomedy.com
SUMMARY:Trivia Hour
DESCRIPTION:Trivia! Pop by to see if you are smarter than the average avatar and for a chance to win a $25 gift card.
URL:https://www.soapstonecomedy.com/event/18-plus-trivia-hour-at-the-soapstone/2027-11-30/
LOCATION:The Soapstone Comedy Club – NYC 18+
CATEGORIES:Social,Trivia
ATTACH;FMTTYPE=image/png:https://www.soapstonecomedy.com/wp-content/uploads/2025/09/2026-TRIVIA-HOUR-1224x756-1.png
END:VEVENT
BEGIN:VEVENT
DTSTART;TZID=America/Detroit:20271130T220000
DTEND;TZID=America/Detroit:20271130T230000
DTSTAMP:20260423T072258
CREATED:20251114T122438Z
LAST-MODIFIED:20260224T130436Z
UID:10014893-1827612000-1827615600@www.soapstonecomedy.com
SUMMARY:The SoapSTOVE
DESCRIPTION:
URL:https://www.soapstonecomedy.com/event/18-plus-the-soapstove-2/2027-11-30/
LOCATION:The Soapstone Comedy Club – NYC 18+
CATEGORIES:Social
ATTACH;FMTTYPE=image/png:https://www.soapstonecomedy.com/wp-content/uploads/2026/02/2026-SOAPSTOVE-1224x756-1.png
END:VEVENT
BEGIN:VEVENT
DTSTART;TZID=America/Detroit:20271201T150000
DTEND;TZID=America/Detroit:20271201T160000
DTSTAMP:20260423T072258
CREATED:20250911T173438Z
LAST-MODIFIED:20260224T130632Z
UID:10008281-1827673200-1827676800@www.soapstonecomedy.com
SUMMARY:Hello Soapstone!
DESCRIPTION:
URL:https://www.soapstonecomedy.com/event/18-plus-hello-soapstone/2027-12-01/
LOCATION:The Soapstone Comedy Club – NYC 18+
CATEGORIES:Social
ATTACH;FMTTYPE=image/png:https://www.soapstonecomedy.com/wp-content/uploads/2026/02/2026-HELLO-SOAPSTONE-1224x756-1.png
END:VEVENT
BEGIN:VEVENT
DTSTART;TZID=America/Detroit:20271201T210000
DTEND;TZID=America/Detroit:20271201T220000
DTSTAMP:20260423T072258
CREATED:20250911T172614Z
LAST-MODIFIED:20260224T130618Z
UID:10007753-1827694800-1827698400@www.soapstonecomedy.com
SUMMARY:Hello Soapstone!
DESCRIPTION:
URL:https://www.soapstonecomedy.com/event/18-plus-hello-soapstone-2/2027-12-01/
LOCATION:The Soapstone Comedy Club – NYC 18+
CATEGORIES:Social
ATTACH;FMTTYPE=image/png:https://www.soapstonecomedy.com/wp-content/uploads/2026/02/2026-HELLO-SOAPSTONE-1224x756-1.png
END:VEVENT
BEGIN:VEVENT
DTSTART;TZID=America/Detroit:20271202T150000
DTEND;TZID=America/Detroit:20271202T160000
DTSTAMP:20260423T072258
CREATED:20260106T153156Z
LAST-MODIFIED:20260224T130347Z
UID:10015421-1827759600-1827763200@www.soapstonecomedy.com
SUMMARY:Le Soapstone
DESCRIPTION:
URL:https://www.soapstonecomedy.com/event/18-plus-le-soapstone-2-2-2/2027-12-02/
LOCATION:The Soapstone Comedy Club – NYC 18+
CATEGORIES:Music,Social
ATTACH;FMTTYPE=image/png:https://www.soapstonecomedy.com/wp-content/uploads/2026/02/2026-LE-SOAPSTONE-TH-1224x756-1.png
END:VEVENT
BEGIN:VEVENT
DTSTART;TZID=America/Detroit:20271203T150000
DTEND;TZID=America/Detroit:20271203T160000
DTSTAMP:20260423T072258
CREATED:20251114T124345Z
LAST-MODIFIED:20260224T130606Z
UID:10006699-1827846000-1827849600@www.soapstonecomedy.com
SUMMARY:Soapstone Soundstage
DESCRIPTION:
URL:https://www.soapstonecomedy.com/event/18-plus-soapstone-soundstage-2-2/2027-12-03/
LOCATION:The Soapstone Comedy Club – NYC 18+
CATEGORIES:Music
ATTACH;FMTTYPE=image/png:https://www.soapstonecomedy.com/wp-content/uploads/2026/02/2026-SOUNDSTAGE-1224x756-1.png
END:VEVENT
BEGIN:VEVENT
DTSTART;TZID=America/Detroit:20271203T210000
DTEND;TZID=America/Detroit:20271203T220000
DTSTAMP:20260423T072258
CREATED:20251114T124018Z
LAST-MODIFIED:20260224T130554Z
UID:10008808-1827867600-1827871200@www.soapstonecomedy.com
SUMMARY:Soapstone Soundstage
DESCRIPTION:
URL:https://www.soapstonecomedy.com/event/18-plus-soapstone-soundstage-3/2027-12-03/
LOCATION:The Soapstone Comedy Club – NYC 18+
CATEGORIES:Music
ATTACH;FMTTYPE=image/png:https://www.soapstonecomedy.com/wp-content/uploads/2026/02/2026-SOUNDSTAGE-1224x756-1.png
END:VEVENT
BEGIN:VEVENT
DTSTART;TZID=America/Detroit:20271204T150000
DTEND;TZID=America/Detroit:20271204T160000
DTSTAMP:20260423T072258
CREATED:20250911T174455Z
LAST-MODIFIED:20260224T130542Z
UID:10014195-1827932400-1827936000@www.soapstonecomedy.com
SUMMARY:Improv Hour
DESCRIPTION:
URL:https://www.soapstonecomedy.com/event/18-plus-improv-hour-at-the-soapstone/2027-12-04/
LOCATION:The Soapstone Comedy Club – NYC 18+
CATEGORIES:Improv
ATTACH;FMTTYPE=image/png:https://www.soapstonecomedy.com/wp-content/uploads/2026/02/2026-IMPROV-HOUR-1224x756-1.png
END:VEVENT
END:VCALENDAR