BEGIN:VCALENDAR
VERSION:2.0
PRODID:-//Soapstone Comedy - ECPv6.15.0//NONSGML v1.0//EN
CALSCALE:GREGORIAN
METHOD:PUBLISH
X-WR-CALNAME:Soapstone Comedy
X-ORIGINAL-URL:https://www.soapstonecomedy.com
X-WR-CALDESC:Events for Soapstone Comedy
REFRESH-INTERVAL;VALUE=DURATION:PT1H
X-Robots-Tag:noindex
X-PUBLISHED-TTL:PT1H
BEGIN:VTIMEZONE
TZID:America/Detroit
BEGIN:DAYLIGHT
TZOFFSETFROM:-0500
TZOFFSETTO:-0400
TZNAME:EDT
DTSTART:20280312T070000
END:DAYLIGHT
BEGIN:STANDARD
TZOFFSETFROM:-0400
TZOFFSETTO:-0500
TZNAME:EST
DTSTART:20281105T060000
END:STANDARD
END:VTIMEZONE
BEGIN:VEVENT
DTSTART;TZID=America/Detroit:20280218T150000
DTEND;TZID=America/Detroit:20280218T160000
DTSTAMP:20260424T104608
CREATED:20251114T124345Z
LAST-MODIFIED:20260224T130606Z
UID:10006710-1834498800-1834502400@www.soapstonecomedy.com
SUMMARY:Soapstone Soundstage
DESCRIPTION:
URL:https://www.soapstonecomedy.com/event/18-plus-soapstone-soundstage-2-2/2028-02-18/
LOCATION:The Soapstone Comedy Club – NYC 18+
CATEGORIES:Music
ATTACH;FMTTYPE=image/png:https://www.soapstonecomedy.com/wp-content/uploads/2026/02/2026-SOUNDSTAGE-1224x756-1.png
END:VEVENT
BEGIN:VEVENT
DTSTART;TZID=America/Detroit:20280218T210000
DTEND;TZID=America/Detroit:20280218T220000
DTSTAMP:20260424T104608
CREATED:20251114T124018Z
LAST-MODIFIED:20260224T130554Z
UID:10008819-1834520400-1834524000@www.soapstonecomedy.com
SUMMARY:Soapstone Soundstage
DESCRIPTION:
URL:https://www.soapstonecomedy.com/event/18-plus-soapstone-soundstage-3/2028-02-18/
LOCATION:The Soapstone Comedy Club – NYC 18+
CATEGORIES:Music
ATTACH;FMTTYPE=image/png:https://www.soapstonecomedy.com/wp-content/uploads/2026/02/2026-SOUNDSTAGE-1224x756-1.png
END:VEVENT
BEGIN:VEVENT
DTSTART;TZID=America/Detroit:20280219T150000
DTEND;TZID=America/Detroit:20280219T160000
DTSTAMP:20260424T104608
CREATED:20250911T174455Z
LAST-MODIFIED:20260224T130542Z
UID:10014206-1834585200-1834588800@www.soapstonecomedy.com
SUMMARY:Improv Hour
DESCRIPTION:
URL:https://www.soapstonecomedy.com/event/18-plus-improv-hour-at-the-soapstone/2028-02-19/
LOCATION:The Soapstone Comedy Club – NYC 18+
CATEGORIES:Improv
ATTACH;FMTTYPE=image/png:https://www.soapstonecomedy.com/wp-content/uploads/2026/02/2026-IMPROV-HOUR-1224x756-1.png
END:VEVENT
BEGIN:VEVENT
DTSTART;TZID=America/Detroit:20280219T210000
DTEND;TZID=America/Detroit:20280219T220000
DTSTAMP:20260424T104608
CREATED:20251114T133416Z
LAST-MODIFIED:20260224T130529Z
UID:10011456-1834606800-1834610400@www.soapstonecomedy.com
SUMMARY:Improv Hour
DESCRIPTION:
URL:https://www.soapstonecomedy.com/event/18-improv-hour-at-the-soapstone-2-2/2028-02-19/
LOCATION:The Soapstone Comedy Club – NYC 18+
CATEGORIES:Improv
ATTACH;FMTTYPE=image/png:https://www.soapstonecomedy.com/wp-content/uploads/2026/02/2026-IMPROV-HOUR-1224x756-1.png
END:VEVENT
BEGIN:VEVENT
DTSTART;TZID=America/Detroit:20280220T150000
DTEND;TZID=America/Detroit:20280220T160000
DTSTAMP:20260424T104608
CREATED:20250912T141829Z
LAST-MODIFIED:20260224T130516Z
UID:10011982-1834671600-1834675200@www.soapstonecomedy.com
SUMMARY:Sunday Improv
DESCRIPTION:
URL:https://www.soapstonecomedy.com/event/18-sunday-improv/2028-02-20/
LOCATION:The Soapstone Comedy Club – NYC 18+
CATEGORIES:Improv
ATTACH;FMTTYPE=image/png:https://www.soapstonecomedy.com/wp-content/uploads/2026/02/2026-SUNDAY-IMPROV-1224x756-1.png
END:VEVENT
BEGIN:VEVENT
DTSTART;TZID=America/Detroit:20280220T210000
DTEND;TZID=America/Detroit:20280220T220000
DTSTAMP:20260424T104608
CREATED:20250831T120606Z
LAST-MODIFIED:20260224T130503Z
UID:10013932-1834693200-1834696800@www.soapstonecomedy.com
SUMMARY:Story Hour
DESCRIPTION:
URL:https://www.soapstonecomedy.com/event/18-story-hour-at-the-soapstone-2/2028-02-20/
LOCATION:The Soapstone Comedy Club – NYC 18+
CATEGORIES:Storytelling
ATTACH;FMTTYPE=image/png:https://www.soapstonecomedy.com/wp-content/uploads/2026/02/2026-STORY-HOUR-1224x756-1.png
END:VEVENT
BEGIN:VEVENT
DTSTART;TZID=America/Detroit:20280221T210000
DTEND;TZID=America/Detroit:20280221T220000
DTSTAMP:20260424T104608
CREATED:20251114T114926Z
LAST-MODIFIED:20260224T130448Z
UID:10010137-1834779600-1834783200@www.soapstonecomedy.com
SUMMARY:Stand-up Showdown
DESCRIPTION:
URL:https://www.soapstonecomedy.com/event/1000-dollar-spotlight-comedy-auditions-18-plus-2-2/2028-02-21/
LOCATION:The Soapstone Comedy Club – NYC 18+
CATEGORIES:Standup Comedy
ATTACH;FMTTYPE=image/png:https://www.soapstonecomedy.com/wp-content/uploads/2026/02/2026-STAND-UP-SHOWDOWN-1224x756-1.png
END:VEVENT
BEGIN:VEVENT
DTSTART;TZID=America/Detroit:20280222T150000
DTEND;TZID=America/Detroit:20280222T160000
DTSTAMP:20260424T104608
CREATED:20250911T164307Z
LAST-MODIFIED:20260224T130656Z
UID:10007237-1834844400-1834848000@www.soapstonecomedy.com
SUMMARY:Trivia Hour
DESCRIPTION:
URL:https://www.soapstonecomedy.com/event/18-plus-trivia-hour-at-the-soapstone-2/2028-02-22/
LOCATION:The Soapstone Comedy Club – NYC 18+
CATEGORIES:Social,Trivia
ATTACH;FMTTYPE=image/png:https://www.soapstonecomedy.com/wp-content/uploads/2025/09/2026-TRIVIA-HOUR-1224x756-1.png
END:VEVENT
BEGIN:VEVENT
DTSTART;TZID=America/Detroit:20280222T210000
DTEND;TZID=America/Detroit:20280222T220000
DTSTAMP:20260424T104608
CREATED:20250911T163548Z
LAST-MODIFIED:20260224T130644Z
UID:10013668-1834866000-1834869600@www.soapstonecomedy.com
SUMMARY:Trivia Hour
DESCRIPTION:Trivia! Pop by to see if you are smarter than the average avatar and for a chance to win a $25 gift card.
URL:https://www.soapstonecomedy.com/event/18-plus-trivia-hour-at-the-soapstone/2028-02-22/
LOCATION:The Soapstone Comedy Club – NYC 18+
CATEGORIES:Social,Trivia
ATTACH;FMTTYPE=image/png:https://www.soapstonecomedy.com/wp-content/uploads/2025/09/2026-TRIVIA-HOUR-1224x756-1.png
END:VEVENT
BEGIN:VEVENT
DTSTART;TZID=America/Detroit:20280222T220000
DTEND;TZID=America/Detroit:20280222T230000
DTSTAMP:20260424T104608
CREATED:20251114T122438Z
LAST-MODIFIED:20260224T130436Z
UID:10014905-1834869600-1834873200@www.soapstonecomedy.com
SUMMARY:The SoapSTOVE
DESCRIPTION:
URL:https://www.soapstonecomedy.com/event/18-plus-the-soapstove-2/2028-02-22/
LOCATION:The Soapstone Comedy Club – NYC 18+
CATEGORIES:Social
ATTACH;FMTTYPE=image/png:https://www.soapstonecomedy.com/wp-content/uploads/2026/02/2026-SOAPSTOVE-1224x756-1.png
END:VEVENT
BEGIN:VEVENT
DTSTART;TZID=America/Detroit:20280223T150000
DTEND;TZID=America/Detroit:20280223T160000
DTSTAMP:20260424T104608
CREATED:20250911T173438Z
LAST-MODIFIED:20260224T130632Z
UID:10008293-1834930800-1834934400@www.soapstonecomedy.com
SUMMARY:Hello Soapstone!
DESCRIPTION:
URL:https://www.soapstonecomedy.com/event/18-plus-hello-soapstone/2028-02-23/
LOCATION:The Soapstone Comedy Club – NYC 18+
CATEGORIES:Social
ATTACH;FMTTYPE=image/png:https://www.soapstonecomedy.com/wp-content/uploads/2026/02/2026-HELLO-SOAPSTONE-1224x756-1.png
END:VEVENT
BEGIN:VEVENT
DTSTART;TZID=America/Detroit:20280223T210000
DTEND;TZID=America/Detroit:20280223T220000
DTSTAMP:20260424T104608
CREATED:20250911T172614Z
LAST-MODIFIED:20260224T130618Z
UID:10007765-1834952400-1834956000@www.soapstonecomedy.com
SUMMARY:Hello Soapstone!
DESCRIPTION:
URL:https://www.soapstonecomedy.com/event/18-plus-hello-soapstone-2/2028-02-23/
LOCATION:The Soapstone Comedy Club – NYC 18+
CATEGORIES:Social
ATTACH;FMTTYPE=image/png:https://www.soapstonecomedy.com/wp-content/uploads/2026/02/2026-HELLO-SOAPSTONE-1224x756-1.png
END:VEVENT
BEGIN:VEVENT
DTSTART;TZID=America/Detroit:20280224T150000
DTEND;TZID=America/Detroit:20280224T160000
DTSTAMP:20260424T104608
CREATED:20260106T153156Z
LAST-MODIFIED:20260224T130347Z
UID:10015433-1835017200-1835020800@www.soapstonecomedy.com
SUMMARY:Le Soapstone
DESCRIPTION:
URL:https://www.soapstonecomedy.com/event/18-plus-le-soapstone-2-2-2/2028-02-24/
LOCATION:The Soapstone Comedy Club – NYC 18+
CATEGORIES:Music,Social
ATTACH;FMTTYPE=image/png:https://www.soapstonecomedy.com/wp-content/uploads/2026/02/2026-LE-SOAPSTONE-TH-1224x756-1.png
END:VEVENT
BEGIN:VEVENT
DTSTART;TZID=America/Detroit:20280225T150000
DTEND;TZID=America/Detroit:20280225T160000
DTSTAMP:20260424T104608
CREATED:20251114T124345Z
LAST-MODIFIED:20260224T130606Z
UID:10006711-1835103600-1835107200@www.soapstonecomedy.com
SUMMARY:Soapstone Soundstage
DESCRIPTION:
URL:https://www.soapstonecomedy.com/event/18-plus-soapstone-soundstage-2-2/2028-02-25/
LOCATION:The Soapstone Comedy Club – NYC 18+
CATEGORIES:Music
ATTACH;FMTTYPE=image/png:https://www.soapstonecomedy.com/wp-content/uploads/2026/02/2026-SOUNDSTAGE-1224x756-1.png
END:VEVENT
BEGIN:VEVENT
DTSTART;TZID=America/Detroit:20280225T210000
DTEND;TZID=America/Detroit:20280225T220000
DTSTAMP:20260424T104608
CREATED:20251114T124018Z
LAST-MODIFIED:20260224T130554Z
UID:10008820-1835125200-1835128800@www.soapstonecomedy.com
SUMMARY:Soapstone Soundstage
DESCRIPTION:
URL:https://www.soapstonecomedy.com/event/18-plus-soapstone-soundstage-3/2028-02-25/
LOCATION:The Soapstone Comedy Club – NYC 18+
CATEGORIES:Music
ATTACH;FMTTYPE=image/png:https://www.soapstonecomedy.com/wp-content/uploads/2026/02/2026-SOUNDSTAGE-1224x756-1.png
END:VEVENT
BEGIN:VEVENT
DTSTART;TZID=America/Detroit:20280226T150000
DTEND;TZID=America/Detroit:20280226T160000
DTSTAMP:20260424T104608
CREATED:20250911T174455Z
LAST-MODIFIED:20260224T130542Z
UID:10014207-1835190000-1835193600@www.soapstonecomedy.com
SUMMARY:Improv Hour
DESCRIPTION:
URL:https://www.soapstonecomedy.com/event/18-plus-improv-hour-at-the-soapstone/2028-02-26/
LOCATION:The Soapstone Comedy Club – NYC 18+
CATEGORIES:Improv
ATTACH;FMTTYPE=image/png:https://www.soapstonecomedy.com/wp-content/uploads/2026/02/2026-IMPROV-HOUR-1224x756-1.png
END:VEVENT
BEGIN:VEVENT
DTSTART;TZID=America/Detroit:20280226T210000
DTEND;TZID=America/Detroit:20280226T220000
DTSTAMP:20260424T104608
CREATED:20251114T133416Z
LAST-MODIFIED:20260224T130529Z
UID:10011457-1835211600-1835215200@www.soapstonecomedy.com
SUMMARY:Improv Hour
DESCRIPTION:
URL:https://www.soapstonecomedy.com/event/18-improv-hour-at-the-soapstone-2-2/2028-02-26/
LOCATION:The Soapstone Comedy Club – NYC 18+
CATEGORIES:Improv
ATTACH;FMTTYPE=image/png:https://www.soapstonecomedy.com/wp-content/uploads/2026/02/2026-IMPROV-HOUR-1224x756-1.png
END:VEVENT
BEGIN:VEVENT
DTSTART;TZID=America/Detroit:20280227T150000
DTEND;TZID=America/Detroit:20280227T160000
DTSTAMP:20260424T104608
CREATED:20250912T141829Z
LAST-MODIFIED:20260224T130516Z
UID:10011983-1835276400-1835280000@www.soapstonecomedy.com
SUMMARY:Sunday Improv
DESCRIPTION:
URL:https://www.soapstonecomedy.com/event/18-sunday-improv/2028-02-27/
LOCATION:The Soapstone Comedy Club – NYC 18+
CATEGORIES:Improv
ATTACH;FMTTYPE=image/png:https://www.soapstonecomedy.com/wp-content/uploads/2026/02/2026-SUNDAY-IMPROV-1224x756-1.png
END:VEVENT
BEGIN:VEVENT
DTSTART;TZID=America/Detroit:20280227T210000
DTEND;TZID=America/Detroit:20280227T220000
DTSTAMP:20260424T104608
CREATED:20250831T120606Z
LAST-MODIFIED:20260224T130503Z
UID:10013933-1835298000-1835301600@www.soapstonecomedy.com
SUMMARY:Story Hour
DESCRIPTION:
URL:https://www.soapstonecomedy.com/event/18-story-hour-at-the-soapstone-2/2028-02-27/
LOCATION:The Soapstone Comedy Club – NYC 18+
CATEGORIES:Storytelling
ATTACH;FMTTYPE=image/png:https://www.soapstonecomedy.com/wp-content/uploads/2026/02/2026-STORY-HOUR-1224x756-1.png
END:VEVENT
BEGIN:VEVENT
DTSTART;TZID=America/Detroit:20280228T210000
DTEND;TZID=America/Detroit:20280228T220000
DTSTAMP:20260424T104608
CREATED:20251114T114926Z
LAST-MODIFIED:20260224T130448Z
UID:10010138-1835384400-1835388000@www.soapstonecomedy.com
SUMMARY:Stand-up Showdown
DESCRIPTION:
URL:https://www.soapstonecomedy.com/event/1000-dollar-spotlight-comedy-auditions-18-plus-2-2/2028-02-28/
LOCATION:The Soapstone Comedy Club – NYC 18+
CATEGORIES:Standup Comedy
ATTACH;FMTTYPE=image/png:https://www.soapstonecomedy.com/wp-content/uploads/2026/02/2026-STAND-UP-SHOWDOWN-1224x756-1.png
END:VEVENT
BEGIN:VEVENT
DTSTART;TZID=America/Detroit:20280229T150000
DTEND;TZID=America/Detroit:20280229T160000
DTSTAMP:20260424T104608
CREATED:20250911T164307Z
LAST-MODIFIED:20260224T130656Z
UID:10007238-1835449200-1835452800@www.soapstonecomedy.com
SUMMARY:Trivia Hour
DESCRIPTION:
URL:https://www.soapstonecomedy.com/event/18-plus-trivia-hour-at-the-soapstone-2/2028-02-29/
LOCATION:The Soapstone Comedy Club – NYC 18+
CATEGORIES:Social,Trivia
ATTACH;FMTTYPE=image/png:https://www.soapstonecomedy.com/wp-content/uploads/2025/09/2026-TRIVIA-HOUR-1224x756-1.png
END:VEVENT
BEGIN:VEVENT
DTSTART;TZID=America/Detroit:20280229T210000
DTEND;TZID=America/Detroit:20280229T220000
DTSTAMP:20260424T104608
CREATED:20250911T163548Z
LAST-MODIFIED:20260224T130644Z
UID:10013669-1835470800-1835474400@www.soapstonecomedy.com
SUMMARY:Trivia Hour
DESCRIPTION:Trivia! Pop by to see if you are smarter than the average avatar and for a chance to win a $25 gift card.
URL:https://www.soapstonecomedy.com/event/18-plus-trivia-hour-at-the-soapstone/2028-02-29/
LOCATION:The Soapstone Comedy Club – NYC 18+
CATEGORIES:Social,Trivia
ATTACH;FMTTYPE=image/png:https://www.soapstonecomedy.com/wp-content/uploads/2025/09/2026-TRIVIA-HOUR-1224x756-1.png
END:VEVENT
BEGIN:VEVENT
DTSTART;TZID=America/Detroit:20280229T220000
DTEND;TZID=America/Detroit:20280229T230000
DTSTAMP:20260424T104608
CREATED:20251114T122438Z
LAST-MODIFIED:20260224T130436Z
UID:10014906-1835474400-1835478000@www.soapstonecomedy.com
SUMMARY:The SoapSTOVE
DESCRIPTION:
URL:https://www.soapstonecomedy.com/event/18-plus-the-soapstove-2/2028-02-29/
LOCATION:The Soapstone Comedy Club – NYC 18+
CATEGORIES:Social
ATTACH;FMTTYPE=image/png:https://www.soapstonecomedy.com/wp-content/uploads/2026/02/2026-SOAPSTOVE-1224x756-1.png
END:VEVENT
BEGIN:VEVENT
DTSTART;TZID=America/Detroit:20280301T150000
DTEND;TZID=America/Detroit:20280301T160000
DTSTAMP:20260424T104608
CREATED:20250911T173438Z
LAST-MODIFIED:20260224T130632Z
UID:10008294-1835535600-1835539200@www.soapstonecomedy.com
SUMMARY:Hello Soapstone!
DESCRIPTION:
URL:https://www.soapstonecomedy.com/event/18-plus-hello-soapstone/2028-03-01/
LOCATION:The Soapstone Comedy Club – NYC 18+
CATEGORIES:Social
ATTACH;FMTTYPE=image/png:https://www.soapstonecomedy.com/wp-content/uploads/2026/02/2026-HELLO-SOAPSTONE-1224x756-1.png
END:VEVENT
BEGIN:VEVENT
DTSTART;TZID=America/Detroit:20280301T210000
DTEND;TZID=America/Detroit:20280301T220000
DTSTAMP:20260424T104608
CREATED:20250911T172614Z
LAST-MODIFIED:20260224T130618Z
UID:10007766-1835557200-1835560800@www.soapstonecomedy.com
SUMMARY:Hello Soapstone!
DESCRIPTION:
URL:https://www.soapstonecomedy.com/event/18-plus-hello-soapstone-2/2028-03-01/
LOCATION:The Soapstone Comedy Club – NYC 18+
CATEGORIES:Social
ATTACH;FMTTYPE=image/png:https://www.soapstonecomedy.com/wp-content/uploads/2026/02/2026-HELLO-SOAPSTONE-1224x756-1.png
END:VEVENT
BEGIN:VEVENT
DTSTART;TZID=America/Detroit:20280302T150000
DTEND;TZID=America/Detroit:20280302T160000
DTSTAMP:20260424T104608
CREATED:20260106T153156Z
LAST-MODIFIED:20260224T130347Z
UID:10015434-1835622000-1835625600@www.soapstonecomedy.com
SUMMARY:Le Soapstone
DESCRIPTION:
URL:https://www.soapstonecomedy.com/event/18-plus-le-soapstone-2-2-2/2028-03-02/
LOCATION:The Soapstone Comedy Club – NYC 18+
CATEGORIES:Music,Social
ATTACH;FMTTYPE=image/png:https://www.soapstonecomedy.com/wp-content/uploads/2026/02/2026-LE-SOAPSTONE-TH-1224x756-1.png
END:VEVENT
BEGIN:VEVENT
DTSTART;TZID=America/Detroit:20280303T150000
DTEND;TZID=America/Detroit:20280303T160000
DTSTAMP:20260424T104608
CREATED:20251114T124345Z
LAST-MODIFIED:20260224T130606Z
UID:10006712-1835708400-1835712000@www.soapstonecomedy.com
SUMMARY:Soapstone Soundstage
DESCRIPTION:
URL:https://www.soapstonecomedy.com/event/18-plus-soapstone-soundstage-2-2/2028-03-03/
LOCATION:The Soapstone Comedy Club – NYC 18+
CATEGORIES:Music
ATTACH;FMTTYPE=image/png:https://www.soapstonecomedy.com/wp-content/uploads/2026/02/2026-SOUNDSTAGE-1224x756-1.png
END:VEVENT
BEGIN:VEVENT
DTSTART;TZID=America/Detroit:20280303T210000
DTEND;TZID=America/Detroit:20280303T220000
DTSTAMP:20260424T104608
CREATED:20251114T124018Z
LAST-MODIFIED:20260224T130554Z
UID:10008821-1835730000-1835733600@www.soapstonecomedy.com
SUMMARY:Soapstone Soundstage
DESCRIPTION:
URL:https://www.soapstonecomedy.com/event/18-plus-soapstone-soundstage-3/2028-03-03/
LOCATION:The Soapstone Comedy Club – NYC 18+
CATEGORIES:Music
ATTACH;FMTTYPE=image/png:https://www.soapstonecomedy.com/wp-content/uploads/2026/02/2026-SOUNDSTAGE-1224x756-1.png
END:VEVENT
BEGIN:VEVENT
DTSTART;TZID=America/Detroit:20280304T150000
DTEND;TZID=America/Detroit:20280304T160000
DTSTAMP:20260424T104608
CREATED:20250911T174455Z
LAST-MODIFIED:20260224T130542Z
UID:10014208-1835794800-1835798400@www.soapstonecomedy.com
SUMMARY:Improv Hour
DESCRIPTION:
URL:https://www.soapstonecomedy.com/event/18-plus-improv-hour-at-the-soapstone/2028-03-04/
LOCATION:The Soapstone Comedy Club – NYC 18+
CATEGORIES:Improv
ATTACH;FMTTYPE=image/png:https://www.soapstonecomedy.com/wp-content/uploads/2026/02/2026-IMPROV-HOUR-1224x756-1.png
END:VEVENT
BEGIN:VEVENT
DTSTART;TZID=America/Detroit:20280304T210000
DTEND;TZID=America/Detroit:20280304T220000
DTSTAMP:20260424T104608
CREATED:20251114T133416Z
LAST-MODIFIED:20260224T130529Z
UID:10011458-1835816400-1835820000@www.soapstonecomedy.com
SUMMARY:Improv Hour
DESCRIPTION:
URL:https://www.soapstonecomedy.com/event/18-improv-hour-at-the-soapstone-2-2/2028-03-04/
LOCATION:The Soapstone Comedy Club – NYC 18+
CATEGORIES:Improv
ATTACH;FMTTYPE=image/png:https://www.soapstonecomedy.com/wp-content/uploads/2026/02/2026-IMPROV-HOUR-1224x756-1.png
END:VEVENT
END:VCALENDAR